BEGIN:VCALENDAR
VERSION:2.0
PRODID:-//ChamberMaster//Event Calendar 2.0//EN
METHOD:PUBLISH
X-PUBLISHED-TTL:P3D
REFRESH-INTERVAL:P3D
CALSCALE:GREGORIAN
BEGIN:VEVENT
DTSTART:20211026T200000Z
DTEND:20211026T220000Z
X-MICROSOFT-CDO-ALLDAYEVENT:FALSE
SUMMARY:Cheers with the Chamber
DESCRIPTION:
X-ALT-DESC;FMTTYPE=text/html:
LOCATION:3 Palms Pizzeria Pinecrest 200 Park Ave Suite 146 Orange\, OH
UID:e.368.8436
SEQUENCE:3
DTSTAMP:20260421T123503Z
URL:https://public.beachwood.org/events/details/cheers-with-the-chamber-8436
END:VEVENT

END:VCALENDAR
