BEGIN:VCALENDAR
VERSION:2.0
PRODID:-//ChamberMaster//Event Calendar 2.0//EN
METHOD:PUBLISH
X-PUBLISHED-TTL:P3D
REFRESH-INTERVAL:P3D
CALSCALE:GREGORIAN
BEGIN:VEVENT
DTSTART:20210727T200000Z
DTEND:20210727T220000Z
X-MICROSOFT-CDO-ALLDAYEVENT:FALSE
SUMMARY:Cheers with the Chamber
DESCRIPTION:This is a long time in the making! Come join us for a casual happy hour and a chance to network in person! We have the indoor bar reserved. The Happy Hour menu will be available for you to order from\, with drinks starting at 4 and food at 4:30.
X-ALT-DESC;FMTTYPE=text/html:<span style="color: rgb(64\, 63\, 66)\; font-family: Arial\, Verdana\, Helvetica\, sans-serif\; font-size: 12px\; white-space: pre-wrap\;">This is a long time in the making! Come join us for a casual happy hour and a chance to network in person! We have the indoor bar reserved. The Happy Hour menu will be available for you to order from\, with drinks starting at 4 and food at 4:30.</span>
LOCATION:Blu\, the Restaurant 3355 Richmond Rd. Beachwood\, OH 44122
UID:e.368.8429
SEQUENCE:3
DTSTAMP:20260421T090059Z
URL:https://public.beachwood.org/events/details/cheers-with-the-chamber-8429
END:VEVENT

END:VCALENDAR
