BEGIN:VCALENDAR
VERSION:2.0
PRODID:-//ChamberMaster//Event Calendar 2.0//EN
METHOD:PUBLISH
X-PUBLISHED-TTL:P3D
REFRESH-INTERVAL:P3D
CALSCALE:GREGORIAN
BEGIN:VEVENT
DTSTART:20181007T163000Z
DTEND:20181007T183000Z
X-MICROSOFT-CDO-ALLDAYEVENT:FALSE
SUMMARY:Chamber Scavenger Hunt
DESCRIPTION:Scavenger Hunt - For All Ages!\n\n\n\nGather your team (up to 4 members)\, have your cell phones ready\, and be prepared to take photos at teh 2nd Annual Fall Festival!\n\n\n\nThe event starts at the Beachwood Chamber tablea the Festival\, where each team of up to four people will receive a list of items to photograph at the Festival. Create a strategy to shoot as many photos as you can during this two-hour timeframe. The first 80 participants will receive a free lanyard and coupons.\n\n \n\nFirst-place winning team will win 2 round-trip airline tickets to Cincinnati courtesy of Ultimate Air Shuttle.  Second-place team will win $100 in restaurant gift cards\; and third-place team will win $50 in restaurant gift cards.\n\n\n\nWinners will be determined by points given and completion time.\n\n\n\nVolunteers to help with registration\, verifying photos and adding points are welcome and can register here.\n\n\n\n\n\nALL PARTICIPANTS MUST TURN IN A SIGNED WAIVER AT THE TIME OF THE EVENT.\n\n\n\nCLICK HERE FOR WAIVER
X-ALT-DESC;FMTTYPE=text/html:<p helvetica="" style="background-color: rgb(255\, 255\, 255)\; margin: 0px\; font-size: 11px\; line-height: normal\; font-family: "><span style="font-size:20px\;"><span style="font-family:arial\;"><span helvetica="">Scavenger Hunt - For All Ages!<br />\n<br />\nGather your team (up to 4 members)\, have your cell phones ready\, and be prepared to take photos at teh 2nd Annual Fall Festival!<br />\n<br />\nThe event starts at the Beachwood Chamber tablea the Festival\, where each team of up to four people will receive a list of items to photograph at the Festival. Create a strategy to shoot as many photos as you can during this two-hour timeframe. <span class="contextualExtensionHighlight ms-font-color-themePrimary ms-border-color-themePrimary ident_726_841" role="button" style="border-color: rgb(0\, 120\, 215)\; border-bottom-width: 1px\; border-bottom-style: dashed\; cursor: pointer\;" tabindex="0">The first 80 participants will receive a free lanyard and coupons.</span></span></span></span></p>\n\n<p helvetica="" min-height:="" style="background-color: rgb(255\, 255\, 255)\; margin: 0px\; font-size: 11px\; line-height: normal\; font-family: ">&nbsp\;</p>\n\n<p helvetica="" style="background-color: rgb(255\, 255\, 255)\; margin: 0px\; font-size: 11px\; line-height: normal\; font-family: "><span style="font-size:20px\;"><span style="font-family:arial\;"><span helvetica="">First-place winning team will win 2 round-trip airline tickets to Cincinnati courtesy of Ultimate Air Shuttle.&nbsp\; Second-place team will win $100 in restaurant gift cards\; and third-place team will win $50 in restaurant gift cards.<br />\n<br />\nWinners will be determined by points given and completion time.<br />\n<br />\nVolunteers to help with registration\, verifying photos and adding points are welcome and can register here.</span></span></span></p>\n\n<p helvetica="" style="background-color: rgb(255\, 255\, 255)\; margin: 0px\; font-size: 11px\; line-height: normal\; font-family: "><br />\n<br />\n<span style="font-size:20px\;"><span style="font-family:arial\;"><span helvetica=""><span style="color:#FF0000\;"><strong>ALL PARTICIPANTS MUST TURN IN A SIGNED WAIVER AT THE TIME OF THE EVENT.</strong></span><br />\n<br />\n<a href="https://chambermaster.blob.core.windows.net/userfiles/UserFiles/chambers/368/File/BeachwoodChamberofCommerceScavengerHunt--RevisedWaiverform.docx">CLICK HERE</a> <strong><span style="color:#FF0000\;">FOR WAIVER</span></strong></span></span></span><br />\n<br />\n&nbsp\;</p>\n
LOCATION:Meet at the Beachwood Chamber table at 12:00 p.m.
UID:e.368.7972
SEQUENCE:3
DTSTAMP:20260420T145558Z
URL:https://public.beachwood.org/events/details/chamber-scavenger-hunt-7972
END:VEVENT

END:VCALENDAR
