BEGIN:VCALENDAR
VERSION:2.0
PRODID:-//ChamberMaster//Event Calendar 2.0//EN
METHOD:PUBLISH
X-PUBLISHED-TTL:P3D
REFRESH-INTERVAL:P3D
CALSCALE:GREGORIAN
BEGIN:VEVENT
DTSTART;VALUE=DATE:20100324
DTEND;VALUE=DATE:20100325
TRANSP:TRANSPARENT
X-MICROSOFT-CDO-ALLDAYEVENT:TRUE
SUMMARY:CHAMBER: NETWORKING LUNCHEON-MARCH - SOLD OUT!
DESCRIPTION:March is networking month -- SOLD OUTSORRY--LUNCHEON HAS BEEN SOLD OUT!!We will have three (3) rotations...network with 21 different individuals/businesses!We request RSVPs by Wednesday\, March 17th!NO WALK-INS accepted at the luncheon.Not only do we have our regular monthly networking event\, but we also have our twice yearly Networking Luncheon. This month's luncheon is sponsored by National City/PNC.We are again holding the luncheon at Beachwood's Community Center and providing a Box Lunch for attendees.  By doing so\, we are able to lower the cost of the luncheon.$14 for Beachwood Chamber members$20 for nonmembersWe will have limited seating and will not be able to accept walk-ins the day of the event.  We request that you register and pay online.  Under "comments\," if you work for a bank or in insurance\, please specify your area of expertise. Our networking lucheons are Industry Exclusive and enable members to network with 7 individuals during the 1st half and another 7 individuals during the 2nd half. This luncheon\, we are adding a 3rd rotation!  Attendees will network with 21 different individuals/businesses. And\, for those who arrive between 11:30 and 11:40 AM ... you have an additional opportunity to network with attendees while being entered to win a free lunch for the coming month. Any questions\, please contact the Chamber at 216-831-0003 or email us at chamber@beachwood.org Registration closes end of day Friday\, March 20th.
X-ALT-DESC;FMTTYPE=text/html:<div><div><p style="text-align: center"><span style="color: #0000ff"><strong><span style="font-size: small">March&nbsp\;is networking month&nbsp\;-- </span><span style="color: #ff0000"><span style="font-size: small">SOLD OUT</span></span></strong></span></p><p style="text-align: center"><span style="color: #ff0000"><u><span style=""><strong><span style="font-size: small">SORRY--LUNCHEON HAS BEEN SOLD OUT!!</span></strong></span></u></span></p><ul><li>We will have three (3) rotations...network with 21 different individuals/businesses!</li><li>We request RSVPs by Wednesday\, March 17th!</li><li><u><strong>NO WALK-INS accepted at the luncheon.</strong></u></li></ul><p>Not only do we have our regular monthly networking event\, but we also have our twice yearly Networking Luncheon. This month&rsquo\;s luncheon is sponsored by <strong><a href="http://www.nationalcity.com">National City/PNC.</a></strong></p><p>We are again holding the luncheon&nbsp\;at Beachwood&rsquo\;s Community Center and providing a Box Lunch for attendees.&nbsp\; By doing so\, we are able to lower the cost of the luncheon.</p><ul><li>$14 for Beachwood Chamber members</li><li>$20 for nonmembers</li></ul><div>We will have limited seating and will not be able to accept walk-ins the day of the event.&nbsp\; We request that you register and pay online.&nbsp\;</div><div>&nbsp\;</div><div>Under &quot\;comments\,&quot\; if you work for a bank or in insurance\, please specify your area of expertise.</div><div>&nbsp\;</div><div>Our networking lucheons are Industry Exclusive and enable members to network with 7 individuals during the 1st half and another 7 individuals during the 2nd half.</div><div>&nbsp\;</div><div><em><strong>This luncheon\, we are adding a 3rd rotation!&nbsp\; Attendees will network with 21 different individuals/businesses.</strong></em></div><div>&nbsp\;</div><div><strong>And\, for those who arrive between 11:30 and 11:40 AM ... you have an additional opportunity to network with attendees while being entered to win a free lunch for the coming month.</strong></div><div>&nbsp\;</div><div>Any questions\, please contact the Chamber at 216-831-0003 or email us at <a href="mailto:mail@beachwood.org">chamber@beachwood.org</a></div><div>&nbsp\;</div><div><strong>Registration closes end of day Friday\,&nbsp\;March 20th.</strong></div></div></div>
LOCATION:Beachwood Community CenterMuncipal Complex25325 Fairmount Blvd.
UID:e.368.383
SEQUENCE:3
DTSTAMP:20260423T062259Z
URL:https://public.beachwood.org/events/details/chamber-networking-luncheon-march-sold-out-03-24-2010-383
END:VEVENT

END:VCALENDAR
