BEGIN:VCALENDAR
VERSION:2.0
PRODID:-//ChamberMaster//Event Calendar 2.0//EN
METHOD:PUBLISH
X-PUBLISHED-TTL:P3D
REFRESH-INTERVAL:P3D
CALSCALE:GREGORIAN
BEGIN:VEVENT
DTSTART:20260819T153000Z
DTEND:20260819T170000Z
X-MICROSOFT-CDO-ALLDAYEVENT:FALSE
SUMMARY:Chamber Luncheon
DESCRIPTION:Beachwood Chamber of Commerce Luncheon\n\n\n\nSpecial Guest Speaker:  Mr. Terry Coyne/Newmark.\n\n\n\nTopic\; Building a Successful Regional Real Estate Business\n\n \n\nScalable Impact\, Proven Results\n\n\n\nWith over 35 years of combined experience\, Terry and his team of Cleveland and Columbus real estate brokers consistently rank among Newmark's top industrial producers nationwide. The team serves the Cleveland\, Columbus\, Dayton\, Toledo and Youngstown markets. No matter how complex your commercial real estate services needs are\, our Team of experts have you covered.
X-ALT-DESC;FMTTYPE=text/html:Beachwood Chamber of Commerce Luncheon<br />\n<br />\nSpecial Guest Speaker:&nbsp\; Mr. Terry Coyne/Newmark.<br />\n<br />\nTopic\; Building a Successful Regional Real Estate Business<br />\n<span style="font-size:14px\;"><span style="color: rgb(64\, 64\, 64)\; font-family: &quot\;Open Sans&quot\;\; background-color: rgba(247\, 244\, 239\, 0.5)\;">&nbsp\;<br />\n<span style="font-size:16px\;">Scalable Impact\, Proven Results</span></span></span>\n\n<div class="col-sm-8" style="box-sizing: border-box\; font-size: 1rem\; display: inline-block\; vertical-align: top\; width: 906.664px\; min-height: 1px\; padding-left: 10px\; padding-right: 10px\; color: rgb(64\, 64\, 64)\; font-family: &quot\;Open Sans&quot\;\; background-color: rgba(247\, 244\, 239\, 0.5)\;">\n<div class="tc-side-headline-content" style="box-sizing: inherit\;">\n<p style="box-sizing: inherit\; line-height: 1.5555\; margin: 0px 0px 10px\; font-size: 18px\;"><span style="font-size:16px\;">With over 35 years of combined experience\, Terry and his team of Cleveland and Columbus real estate brokers consistently rank among Newmark&rsquo\;s top industrial producers nationwide. The team serves the Cleveland\, Columbus\, Dayton\, Toledo and Youngstown markets.&nbsp\;No matter how complex your commercial real estate services needs are\, our Team of experts have you covered.</span></p>\n</div>\n</div>\n
LOCATION:Heck's Cafe 3365 Richmond Rd Beachwood\, OH. 44122
UID:e.368.8870
SEQUENCE:3
DTSTAMP:20260423T115845Z
URL:https://public.beachwood.org/events/details/chamber-luncheon-8870
END:VEVENT

END:VCALENDAR
