BEGIN:VCALENDAR
VERSION:2.0
PRODID:-//ChamberMaster//Event Calendar 2.0//EN
METHOD:PUBLISH
X-PUBLISHED-TTL:P3D
REFRESH-INTERVAL:P3D
CALSCALE:GREGORIAN
BEGIN:VEVENT
DTSTART:20080810T140000Z
DTEND:20080810T180000Z
X-MICROSOFT-CDO-ALLDAYEVENT:FALSE
SUMMARY:CHABAM--Free Open House
DESCRIPTION:Visit CHABAM\, the educational playcenter\, on Sunday\, August 10th\, 10 AM-2 PM\, for a FREE OPEN HOUSE. CHABAM is the place where children have active bodies and minds. Enjoy cupcakes\, face painting\, fall class preview and fun for the whole family. CHABAM was voted "Best in Cleveland"by Nickelodeon 7 Parents' Picks:  Best Artsy Class\, Best Indoor Planspace/Partyspace and Best Parents Night Out. We look forward to your visit this Sunday.  Fall registration is now open.
X-ALT-DESC;FMTTYPE=text/html:<div>Visit CHABAM\, the educational playcenter\,&nbsp\;on Sunday\, August 10th\,&nbsp\;10 AM-2 PM\, for a FREE OPEN HOUSE. CHABAM is the place where children have active bodies and minds.</div><div>&nbsp\;</div><div>Enjoy cupcakes\, face painting\, fall class preview and fun for the whole family.</div><div>&nbsp\;</div><div>CHABAM was voted &quot\;Best in Cleveland&quot\;by Nickelodeon 7 Parents&rsquo\; Picks:&nbsp\; Best Artsy Class\, Best Indoor Planspace/Partyspace and Best Parents Night Out.</div><div>&nbsp\;</div><div>We look forward to your visit this Sunday.&nbsp\; Fall registration is now open.</div><div>&nbsp\;</div><div>&nbsp\;</div>
LOCATION:CHABAM 28700 Chagrin Blvd. Woodmere (across from Eton)
UID:e.368.71
SEQUENCE:3
DTSTAMP:20260424T043910Z
URL:https://public.beachwood.org/events/details/chabam-free-open-house-08-10-2008-71
END:VEVENT

END:VCALENDAR
