BEGIN:VCALENDAR
VERSION:2.0
PRODID:-//ChamberMaster//Event Calendar 2.0//EN
METHOD:PUBLISH
X-PUBLISHED-TTL:P3D
REFRESH-INTERVAL:P3D
CALSCALE:GREGORIAN
BEGIN:VEVENT
DTSTART:20170523T230000Z
DTEND:20170524T010000Z
X-MICROSOFT-CDO-ALLDAYEVENT:FALSE
SUMMARY:Cantors in Concert
DESCRIPTION:CANTORS IN CONCERT\n\nTuesday\, May 23\, 2017 ~ 7:00 PM\n\n\n\nAn evening of musical enchantment. The concert\, hosted by the Friends of the Maltz Museum\, features solo and duet performances by\n\n	Cantor Kathryn Sebo of The Temple-Tifereth Israel\, and\n	Laura Lindauer\, Cantorial Soloist at Suburban Temple-Kol Ami\n	Accompanied by: Marshall Griffith\, premier pianist and keyboard player in NE Ohio.\n\nFunds raised by the volunteer group will support the Maltz Museum's outreach and education programs.\n\n\n\nSpace limited.  Call 216.593.0575 for tickets.
X-ALT-DESC;FMTTYPE=text/html:CANTORS IN CONCERT<br />\nTuesday\, May 23\, 2017 ~ 7:00 PM<br />\n<br />\nAn evening of musical enchantment. The concert\, hosted by the Friends of the Maltz Museum\, features solo and duet performances by\n<ul>\n	<li>Cantor Kathryn Sebo of The Temple-Tifereth Israel\, and</li>\n	<li>Laura Lindauer\, Cantorial Soloist at Suburban Temple-Kol Ami</li>\n	<li>Accompanied by: Marshall Griffith\, premier pianist and keyboard player in NE Ohio.</li>\n</ul>\nFunds raised by the volunteer group will support the Maltz Museum&#39\;s outreach and education programs.<br />\n<br />\nSpace limited.&nbsp\; Call 216.593.0575 for tickets.<br />\n&nbsp\;
LOCATION:The Temple-Temple Tifereth Israel 26000 Shaker Blvd. Beachwood
UID:e.368.6303
SEQUENCE:3
DTSTAMP:20260421T052931Z
URL:https://public.beachwood.org/events/details/cantors-in-concert-6303
END:VEVENT

END:VCALENDAR
