BEGIN:VCALENDAR
VERSION:2.0
PRODID:-//ChamberMaster//Event Calendar 2.0//EN
METHOD:PUBLISH
X-PUBLISHED-TTL:P3D
REFRESH-INTERVAL:P3D
CALSCALE:GREGORIAN
BEGIN:VEVENT
DTSTART:20080624T220000Z
DTEND:20080624T230000Z
X-MICROSOFT-CDO-ALLDAYEVENT:FALSE
SUMMARY:C-REEL RESULTS: Supermarket Sweep
DESCRIPTION:The C-REEL RESULTS: Supermarket Sweep is a fun and interactive event for anyone looking to not only improve their eating habits\, but how to specifically eat to increase their metabolism and burn body fat. This event is conducted by a registered dietitian. Each visit is about one hour and consists of learning about the layouts of supermarkets\; food labels\; which foods boost your metabolism and which ones don't\; which foods feed your muscles\; for optimal muscle toning\, and which ones feet your fat\; C-REEL RESULTS: Power Foods and Power Portions.
X-ALT-DESC;FMTTYPE=text/html:The C-REEL RESULTS: Supermarket Sweep is a fun and interactive event for anyone looking to not only improve their eating habits\, but how to specifically eat to increase their metabolism and burn body fat. This event is conducted by a registered dietitian. Each visit is about one hour and consists of learning about the layouts of supermarkets\; food labels\; which foods boost your metabolism and which ones don't\; which foods feed your muscles\; for optimal muscle toning\, and which ones feet your fat\; C-REEL RESULTS: Power Foods and Power Portions.
LOCATION:The next C-REEL RESULTS: Supermarket Sweep will be held at Heinen's at Lander Circle in Shaker Heights.
UID:e.368.52
SEQUENCE:3
DTSTAMP:20260424T085008Z
URL:https://public.beachwood.org/events/details/c-reel-results-supermarket-sweep-06-24-2008-52
END:VEVENT

END:VCALENDAR
