BEGIN:VCALENDAR
VERSION:2.0
PRODID:-//ChamberMaster//Event Calendar 2.0//EN
METHOD:PUBLISH
X-PUBLISHED-TTL:P3D
REFRESH-INTERVAL:P3D
CALSCALE:GREGORIAN
BEGIN:VEVENT
DTSTART:20081103T213000Z
DTEND:20081103T213000Z
X-MICROSOFT-CDO-ALLDAYEVENT:FALSE
SUMMARY:Busyness and Forgetfulness: Taking Charge of Your Life
DESCRIPTION:Too much on your plate? Trouble saying no? Forgot an appointment? Looking everywhere for that important item? Not enough hours in the day? Worried about your memory? Have a family member with memory loss?Join others on Monday\, November 3rd\, 4:30-6:00 PM\, at the Beachwood Community Center\, for...Busyness and Forgetfulness:\n Taking Charge of your life! With instructor\, Kathryn Kilpatrick\, M.A. CCC/SLP\, a national motivational speaker providing information to people of all ages on memory fitness and successful aging.Learn how you can make changes that will help you remember better once you understand the role busyness and multitasking play in your life. Learn how a positive attitude\, health life style choices\, and paying attention can enhance your memory and the quality of your life.RSVP deadline: October 28th.
X-ALT-DESC;FMTTYPE=text/html:<div><font color="#333399"><p><font color="#333399">Too much on your plate? Trouble saying no? Forgot an appointment? Looking everywhere for that important item? Not enough hours in the day? Worried about your memory? Have a family member with memory loss?</font></p><div>Join others on Monday\, November 3rd\, 4:30-6:00 PM\, at the Beachwood Community Center\, for...</div><font color="#333399"><p align="center"><u><font size="3"><strong><font color="#333399"><em>Busyness and Forgetfulness:<br />&nbsp\;Taking Charge of your life!</em></font> </strong></font></u></p><p><font color="#333399">With instructor\, <strong>Kathryn Kilpatrick</strong>\, M.A. CCC/SLP\, a national motivational speaker providing information to people of all ages on memory fitness and successful aging.</font></p><p>Learn how you can make changes that will help you remember better once you understand the role busyness and multitasking play in your life. Learn how a positive attitude\, health life style choices\, and paying attention can enhance your memory and the quality of your life.</p><p><em><strong>RSVP deadline: October 28th.</strong></em></p><p>&nbsp\;</p></font></font></div><p>&nbsp\;</p>
LOCATION:Beachwood Community Center(Fairmount Blvd.\, just west of Richmond Road)
UID:e.368.82
SEQUENCE:3
DTSTAMP:20260424T005745Z
URL:https://public.beachwood.org/events/details/busyness-and-forgetfulness-taking-charge-of-your-life-11-03-2008-82
END:VEVENT

END:VCALENDAR
