BEGIN:VCALENDAR
VERSION:2.0
PRODID:-//ChamberMaster//Event Calendar 2.0//EN
METHOD:PUBLISH
X-PUBLISHED-TTL:P3D
REFRESH-INTERVAL:P3D
CALSCALE:GREGORIAN
BEGIN:VEVENT
DTSTART:20080905T120000Z
DTEND:20080905T131500Z
X-MICROSOFT-CDO-ALLDAYEVENT:FALSE
SUMMARY:BUSINESS SHOW 101
DESCRIPTION:Business Show 101: How to maximize your exposure as an exhibitor Exhibiting at the 2008 Ohio.net BCC Business Show?\nThinking about exhibiting but not sure?\nNever exhibited before at a show and need some direction?\n\nJoin us on Friday\, September 5th\, at 8:00 AM at the Chamber offices for Business Show 101. The Chamber is located at Three Commerce Park Square\, 23230 Chagrin Blvd\, Suite 900\, just opposite the Golf Course on Green Road.\nEnjoy excellent coffee while our experts\, who have led this program in past years and who exhibit at shows\, will give you the tips on how to set up an exhibit\, how to get people to stop at your booth\, how to follow-up after the show\, and much more. RSVP online at www.beachwood.org\, email mail@beachwood.org\, or call 216-831-0003 to let us know that you are coming. And\, as always\, walk-ins are welcome. We look forward to seeing you on Friday!
X-ALT-DESC;FMTTYPE=text/html:<div style="margin: 0in 0in 0pt"><span style="font-size: 14pt\; color: maroon">Business Show 101: How to maximize your exposure as an exhibitor</span></div><div style="margin: 0in 0in 0pt">&nbsp\;</div><div style="margin: 0in 0in 0pt"><span style="font-size: 11pt\; color: navy">Exhibiting at the 2008 Ohio.net BCC Business Show?<br />Thinking about exhibiting but not sure?<br />Never exhibited before at a show and need some direction?<br /><br /></span></div><div style="margin: 0in 0in 0pt"><span style="font-size: 11pt\; color: navy">Join us on Friday\, September 5<sup>th</sup>\, at 8:00 AM at the Chamber offices for Business Show 101. The Chamber is located at Three Commerce Park Square\, 23230 Chagrin Blvd\, Suite 900\, just opposite the Golf Course on Green Road.</span></div><div style="margin: 0in 0in 0pt"><span style="font-size: 11pt\; color: navy"><br />Enjoy excellent coffee while our experts\, who have led this program in past years and who exhibit at shows\, will give you the tips on how to set up an exhibit\, how to get people to stop at your booth\, how to follow-up after the show\, and much more.</span></div><div style="margin: 0in 0in 0pt">&nbsp\;</div><div style="margin: 0in 0in 0pt"><span style="font-size: 11pt\; color: navy">RSVP online at <a href="http://www.beachwood.org/"><span style="color: navy">www.beachwood.org</span></a>\, email <a href="mailto:mail@beachwood.org"><span style="color: navy">mail@beachwood.org</span></a>\, or call 216-831-0003 to let us know that you are coming. And\, as always\, walk-ins are welcome.</span></div><div style="margin: 0in 0in 0pt">&nbsp\;</div><div style="margin: 0in 0in 0pt"><span style="font-size: 11pt\; color: navy">We look forward to seeing you on Friday!</span></div>
LOCATION:Beachwood Chamber of Commerce Three Commerce Park Square 23230 Chagrin Blvd.\, Suite 900 Beachwood\, OH 44122
UID:e.368.81
SEQUENCE:3
DTSTAMP:20260424T032230Z
URL:https://public.beachwood.org/events/details/business-show-101-09-05-2008-81
END:VEVENT

END:VCALENDAR
