BEGIN:VCALENDAR
VERSION:2.0
PRODID:-//ChamberMaster//Event Calendar 2.0//EN
METHOD:PUBLISH
X-PUBLISHED-TTL:P3D
REFRESH-INTERVAL:P3D
CALSCALE:GREGORIAN
BEGIN:VEVENT
DTSTART:20211015T150000Z
DTEND:20211015T180000Z
X-MICROSOFT-CDO-ALLDAYEVENT:FALSE
SUMMARY:Business Bites at Buyrite
DESCRIPTION:Come grab some food from a food truck and do some networking during lunch!
X-ALT-DESC;FMTTYPE=text/html:Come grab some food from a food truck and do some networking during lunch!
LOCATION:Buyrite Parking Lot: 23715 Mercantile Rd. Beachwood\, OH 44122
UID:e.368.8437
SEQUENCE:3
DTSTAMP:20260421T142234Z
URL:https://public.beachwood.org/events/details/business-bites-at-buyrite-8437
END:VEVENT

END:VCALENDAR
