BEGIN:VCALENDAR
VERSION:2.0
PRODID:-//ChamberMaster//Event Calendar 2.0//EN
METHOD:PUBLISH
X-PUBLISHED-TTL:P3D
REFRESH-INTERVAL:P3D
CALSCALE:GREGORIAN
BEGIN:VEVENT
DTSTART:20210611T150000Z
DTEND:20210611T180000Z
X-MICROSOFT-CDO-ALLDAYEVENT:FALSE
SUMMARY:Business Bites at BuyRite
DESCRIPTION:We're doing away with our Zoom luncheons for the summer! Come out\, grab some great food from the Steaks and Hoagies food truck\, and network. Get some fresh air and see people in person once again! You might even shake a hand!
X-ALT-DESC;FMTTYPE=text/html:<span style="color: rgb(64\, 63\, 66)\; font-family: Arial\, Verdana\, Helvetica\, sans-serif\; font-size: 12px\;">We&#39\;re doing away with our Zoom luncheons for the summer! Come out\, grab some great food from the&nbsp\;</span><span style="font-family: Arial\, Verdana\, Helvetica\, sans-serif\; font-size: 12px\; color: rgb(255\, 140\, 25)\; font-weight: bold\;">Steaks and Hoagies</span><span style="color: rgb(64\, 63\, 66)\; font-family: Arial\, Verdana\, Helvetica\, sans-serif\; font-size: 12px\;">&nbsp\;food truck\, and network. Get some fresh air and see people in person once again! You might even shake a hand!</span>
LOCATION:23715 Mercantile Rd.
UID:e.368.8424
SEQUENCE:3
DTSTAMP:20260421T102534Z
URL:https://public.beachwood.org/events/details/business-bites-at-buyrite-8424
END:VEVENT

END:VCALENDAR
