BEGIN:VCALENDAR
VERSION:2.0
PRODID:-//ChamberMaster//Event Calendar 2.0//EN
METHOD:PUBLISH
X-PUBLISHED-TTL:P3D
REFRESH-INTERVAL:P3D
CALSCALE:GREGORIAN
BEGIN:VEVENT
DTSTART:20230720T203000Z
DTEND:20230720T223000Z
X-MICROSOFT-CDO-ALLDAYEVENT:FALSE
SUMMARY:BUSINESS AFTER FOUR THIRTY NETWORKING EVENT
DESCRIPTION:GET READY for the ULTIMATE MIX-n-MINGLE NETWORKING EVENT\n\n\n\n\n\n\n\nDear Chamber of Commerce Superstars\,\n\n\n\nBreak out your business cards and prepare to schmooze like there's no tomorrow!  We're thrilled to announce our upcoming Business After Four Thirty networking event at the swanky Marriott Hotel. It's going to be a great night to meet your fellow Chamber members and mingle with community business leaders.\n\n\n\nBut wait\, there's more!  We've roped in (I mean invited) some guest speakers to share insight and answer some questions about investments\, commercial banking\, and commercial shipping services. \n\nGuest speakers include:\n\nEdward Jones...Dale Braun\, Financial Advisor\n\nUS Commercial Services...Larissa Harris\, Int'l Trade Specialist\n\nFarmers National Bank...Blake Brennan\, Information Security Officer\n\n\n\nSo mark your calendars\, practice your best handshake\, and join us at the Marriott River City Grill for food\, good discussions\, and you might even make a connection or two. These events are a great way to support your fellow chamber members and the Beachwood Business Community.  Don't forget business cards !!\n\n\n\nPlease register by following this link to our Event Calendar page. http://www.beachwood.org\n\n\n\nNote the start time for this event is 4:30pm.\n\n\n\nThank you for your support of the Beachwood Chamber of Commerce.\n\n\n\nKind regards\,\n\n\n\nDavid Lapierre\n\nExecutive Director\n\ndirector@beachwood.org\n\n216-831-0003
X-ALT-DESC;FMTTYPE=text/html:<br />\n<br />\n<b>GET READY for the ULTIMATE MIX-n-MINGLE NETWORKING EVENT</b><br />\n<br />\n<br />\n<br />\nDear Chamber of Commerce Superstars\,<br />\n<br />\nBreak out your business cards and prepare to schmooze like there&#39\;s no tomorrow! &nbsp\;We&#39\;re thrilled to announce our upcoming Business After Four Thirty networking event at the swanky Marriott Hotel. It&#39\;s going to be a great night to meet your fellow Chamber members and mingle with community business leaders.<br />\n<br />\nBut wait\, there&#39\;s more! &nbsp\;We&#39\;ve roped in (I mean invited) some guest speakers to share insight and answer some questions about investments\, commercial banking\, and commercial shipping services.&nbsp\;<br />\nGuest speakers include:<br />\n<strong>Edward Jones...Dale Braun\, Financial Advisor<br />\nUS Commercial Services...Larissa Harris\, Int&#39\;l Trade Specialist<br />\nFarmers National Bank...Blake Brennan\, Information Security Officer</strong><br />\n<br />\nSo mark your calendars\, practice your best handshake\, and join us at the <strong>Marriott River City Grill </strong>for food\, good discussions\, and you might even make a connection or two. These events are a great way to support your fellow chamber members and the Beachwood Business Community. &nbsp\;Don&#39\;t forget business cards !!<br />\n<br />\nPlease register by following this link to our Event Calendar page.&nbsp\;<a href="http://www.beachwood.org">http://www.beachwood.org</a><br />\n<br />\n<strong>Note the start time for this event is 4:30pm.</strong><br />\n<br />\nThank you for your support of the Beachwood Chamber of Commerce.<br />\n<br />\nKind regards\,<br />\n<br />\nDavid Lapierre<br />\nExecutive Director<br />\ndirector@beachwood.org<br />\n216-831-0003
LOCATION:Marriott Hotel 26300 Harvard Road Warrensville Heights\, OH
UID:e.368.8648
SEQUENCE:3
DTSTAMP:20260424T165829Z
URL:https://public.beachwood.org/events/details/business-after-four-thirty-networking-event-8648
END:VEVENT

END:VCALENDAR
