BEGIN:VCALENDAR
VERSION:2.0
PRODID:-//ChamberMaster//Event Calendar 2.0//EN
METHOD:PUBLISH
X-PUBLISHED-TTL:P3D
REFRESH-INTERVAL:P3D
CALSCALE:GREGORIAN
BEGIN:VEVENT
DTSTART:20230914T203000Z
DTEND:20230914T223000Z
X-MICROSOFT-CDO-ALLDAYEVENT:FALSE
SUMMARY:Business After Five.... with Guest Speakers
DESCRIPTION:Business After Five with Guest Speakers and Networking\n\n\n\nJoin fellow Chamber members and guests for an evening of networking and learning.\n\nOur guest speakers are:\n\n* Barry Edwards\, owner of Edwards Communications.\n\n  The importance of dynamic branding solutions used for maximum impact.\n\n* Andrea Carter\, owner of LaDrea LLC\n\n  Grow your business using Digital Marketing\n\n* Chris Brown\, Senior VP Business Banking\, PNC Bank:  \n\n  Commercial Lending and activities in banking fraud
X-ALT-DESC;FMTTYPE=text/html:Business After Five with Guest Speakers and Networking<br />\n<br />\nJoin fellow Chamber members and guests for an evening of networking and learning.<br />\nOur guest speakers are:<br />\n<strong>* Barry Edwards\, owner of Edwards Communications.</strong><br />\n&nbsp\; The importance of dynamic branding solutions used for maximum impact.<br />\n* <strong>Andrea Carter\, owner of LaDrea LLC<br />\n&nbsp\;&nbsp\;</strong>Grow your business using Digital Marketing<br />\n* <strong>Chris Brown\, Senior VP Business Banking\, PNC Bank: &nbsp\;<br />\n&nbsp\;&nbsp\;</strong>Commercial Lending and activities in banking fraud
LOCATION:Heck's Cafe East 3355 Richmond Rd Beachwood\, OH. 44122 216-831-5599
UID:e.368.8688
SEQUENCE:3
DTSTAMP:20260424T194601Z
URL:https://public.beachwood.org/events/details/business-after-five-with-guest-speakers-8688
END:VEVENT

END:VCALENDAR
