BEGIN:VCALENDAR
VERSION:2.0
PRODID:-//ChamberMaster//Event Calendar 2.0//EN
METHOD:PUBLISH
X-PUBLISHED-TTL:P3D
REFRESH-INTERVAL:P3D
CALSCALE:GREGORIAN
BEGIN:VEVENT
DTSTART:20180621T210000Z
DTEND:20180621T230000Z
X-MICROSOFT-CDO-ALLDAYEVENT:FALSE
SUMMARY:Business After 5 with Big Frog
DESCRIPTION:Business After Five\n\n\n\nBig Frog Custom T-Shirts and More\n\n\n\nCome meet the Big Frog Staff\n\n \n\nEnjoy hors d'oeuvres and beverages\n\n\n\nNetwork with other Business Chamber Members from the Beachwood and Solon Chambers\n\n\n\nThis event is open to Solon and Beachwood Chamber members.\n\n \n\nCLICK HERE to register
X-ALT-DESC;FMTTYPE=text/html:<p>Business After Five<br />\n<br />\nBig Frog Custom T-Shirts and More<br />\n<br />\nCome meet the Big Frog Staff<br />\n&nbsp\;</p>\n\n<p>Enjoy hors d&#39\;oeuvres and beverages<br />\n<br />\nNetwork with other Business Chamber Members from the Beachwood and Solon Chambers<br />\n<br />\nThis event is open to Solon and Beachwood Chamber members.<br />\n&nbsp\;</p>\n\n<p><a href="http://business.solonchamber.com/events/details/business-after-five-big-frog-t-shirts-more-5377">CLICK HERE</a> to register</p>\n
LOCATION:Big Frog Custom T-Shirts and More 6025 Kruse Drive Suite 119 Solon\, OH 44139
UID:e.368.6962
SEQUENCE:3
DTSTAMP:20260420T202633Z
URL:https://public.beachwood.org/events/details/business-after-5-with-big-frog-6962
END:VEVENT

END:VCALENDAR
