BEGIN:VCALENDAR
VERSION:2.0
PRODID:-//ChamberMaster//Event Calendar 2.0//EN
METHOD:PUBLISH
X-PUBLISHED-TTL:P3D
REFRESH-INTERVAL:P3D
CALSCALE:GREGORIAN
BEGIN:VEVENT
DTSTART:20161103T220000Z
DTEND:20161104T000000Z
X-MICROSOFT-CDO-ALLDAYEVENT:FALSE
SUMMARY:Boy Scouts of America Corporate Pinewood Derby
DESCRIPTION:Greater Cleveland Council Boy Scouts of America\n\nCorporate Pinewood Derby\n\n\n\nSince 1912\, the Greater Cleveland Council has educated and trained thousands of young people.  Today\, the Council touches the lives of nearly 13\,000 youth over the course of any given year.  Without the support of literally thousands of volunteers\, the Council could not deliver its mission: to prepare young people to make ethical and moral choices over their lifetimes by instilling in them the values of the Scout Oath and Law.\n\n\n\nMake a difference in the life of one young Scout by racing in the 1st Annual Corporate Pinewood Derby!\n\n\n\nSponsor/Entry deadline: October 1\, 2016
X-ALT-DESC;FMTTYPE=text/html:Greater Cleveland Council Boy Scouts of America<br />\nCorporate Pinewood Derby<br />\n<br />\n<span style="color:black\;"><span style="font-family:arial\,sans-serif\;"><span style="font-size:10.0pt\;">Since 1912\, the Greater Cleveland Council has educated and trained thousands of young people.&nbsp\; Today\, the Council touches the lives of nearly 13\,000 youth over the course of any given year.&nbsp\; Without the support of literally thousands of volunteers\, the Council could not deliver its mission: <em><span style="font-family:arial\,sans-serif\;">to prepare young people to make ethical and moral choices over their lifetimes by instilling in them the values of the Scout Oath and Law.<br />\n<br />\nMake a difference in the life of one young Scout by racing in the 1st Annual Corporate Pinewood Derby!<br />\n<br />\nSponsor/Entry deadline: October 1\, 2016</span></em></span></span></span><br />\n<br />\n&nbsp\;
LOCATION:DoubleTree by Hilton - Beachwood 3663 Park East Drive
UID:e.368.6041
SEQUENCE:3
DTSTAMP:20260420T211259Z
URL:https://public.beachwood.org/events/details/boy-scouts-of-america-corporate-pinewood-derby-6041
END:VEVENT

END:VCALENDAR
