BEGIN:VCALENDAR
VERSION:2.0
PRODID:-//ChamberMaster//Event Calendar 2.0//EN
METHOD:PUBLISH
X-PUBLISHED-TTL:P3D
REFRESH-INTERVAL:P3D
CALSCALE:GREGORIAN
BEGIN:VEVENT
DTSTART;VALUE=DATE:20080816
DTEND;VALUE=DATE:20080818
TRANSP:TRANSPARENT
X-MICROSOFT-CDO-ALLDAYEVENT:TRUE
SUMMARY:Bike MS Pedal to the Point 2008
DESCRIPTION:The National MS Society presents its 22nd annual Bike MS Pedal to the Point on August 16 and 17. Cyclists and volunteers are asked to join the movement and to focus on one destination ? a world free of multiple sclerosis. More than 2\,100 riders and 500 volunteers are expected to participate in the Bike Ride presented by Giant Eagle. Riders begin at the Cuyahoga County Fairgrounds in Berea in route to Sandusky. The ride offers various route options and is fully supported with frequent rest stops to accommodate riders of all ages and abilities. The goal of Bike MS is to raise $1.3 million to fund quality-of-life programs and services for people with multiple sclerosis and to fund MS-related research efforts. For more information visit www.Msohiobuckeye.org. \n\nThis event is part of the not-for-profit fundraising for the National Multiple Sclerosis Society\, Ohio Buckeye Chapter that benefits the people of Cuyahoga County and the surrounding area.
X-ALT-DESC;FMTTYPE=text/html:The National MS Society presents its 22nd annual Bike MS Pedal to the Point on August 16 and 17. Cyclists and volunteers are asked to join the movement and to focus on one destination ? a world free of multiple sclerosis. More than 2\,100 riders and 500 volunteers are expected to participate in the Bike Ride presented by Giant Eagle. Riders begin at the Cuyahoga County Fairgrounds in Berea in route to Sandusky. The ride offers various route options and is fully supported with frequent rest stops to accommodate riders of all ages and abilities. The goal of Bike MS is to raise $1.3 million to fund quality-of-life programs and services for people with multiple sclerosis and to fund MS-related research efforts. For more information visit www.Msohiobuckeye.org. \n\nThis event is part of the not-for-profit fundraising for the National Multiple Sclerosis Society\, Ohio Buckeye Chapter that benefits the people of Cuyahoga County and the surrounding area. 
LOCATION:Cuyahoga County Fairgrounds\, Berea in route to Sandusky (Saturday) Sandusky in route back to Berea (Sunday)
UID:e.368.54
SEQUENCE:3
DTSTAMP:20260424T044056Z
URL:https://public.beachwood.org/events/details/bike-ms-pedal-to-the-point-2008-08-16-2008-54
END:VEVENT

END:VCALENDAR
