BEGIN:VCALENDAR
VERSION:2.0
PRODID:-//ChamberMaster//Event Calendar 2.0//EN
METHOD:PUBLISH
X-PUBLISHED-TTL:P3D
REFRESH-INTERVAL:P3D
CALSCALE:GREGORIAN
BEGIN:VEVENT
DTSTART:20151025T000000Z
DTEND:20151025T035500Z
X-MICROSOFT-CDO-ALLDAYEVENT:FALSE
SUMMARY:Beauty\, Brains & Brawn Benefit Boo Bash!
DESCRIPTION:Nerium and WorkOutandRecovery.com\n\n\n\nInvite you to a Halloween event\n\nHosted by Cleveland Celebrity Justine Greenwald\n\n\n\nOn Saturday\,  October 24\, 2015\n\n8:00 pm - Midnight (For those 21 and up!)\n\nAt John Carroll University Annex Center\n\n2200 S. Green Road ~ University Heights\n\n\n\nCost: $15 online\; $20 at the door\n\n\n\nA benefit for:  Big Brothers/Big Sisters of America\, Local Veterans\, and the Clevelnd Foodbank\n\nPlease bring a non-perishable item!\n\n\n\nEvent includes:\n\n	FREE gifts for all\n	Chair massages\n	Bon Jovi tribute band\n	Delicious wine\n	FREE parking\n	Best costume contest at 11 PM!\n	Grand Prize drawing
X-ALT-DESC;FMTTYPE=text/html:Nerium and WorkOutandRecovery.com<br />\n<br />\nInvite you to a Halloween event<br />\nHosted by Cleveland Celebrity Justine Greenwald<br />\n<br />\nOn Saturday\,&nbsp\; October 24\, 2015<br />\n8:00 pm - Midnight (For those 21 and up!)<br />\nAt John Carroll University Annex Center<br />\n2200 S. Green Road ~ University Heights<br />\n<br />\nCost: $15 online\; $20 at the door<br />\n<br />\nA benefit for:&nbsp\; Big Brothers/Big Sisters of America\, Local Veterans\, and the Clevelnd Foodbank<br />\nPlease bring a non-perishable item!<br />\n<br />\nEvent includes:\n<ul>\n	<li>FREE gifts for all</li>\n	<li>Chair massages</li>\n	<li>Bon Jovi tribute band</li>\n	<li>Delicious wine</li>\n	<li>FREE parking</li>\n	<li>Best costume contest at 11 PM!</li>\n	<li>Grand Prize drawing</li>\n</ul>\n<br />\n&nbsp\;
LOCATION:John Carroll University Annex Center 2200 South Green Road University Heights\, OH 44121
UID:e.368.3792
SEQUENCE:3
DTSTAMP:20260420T030541Z
URL:https://public.beachwood.org/events/details/beauty-brains-brawn-benefit-boo-bash-10-24-2015-3792
END:VEVENT

END:VCALENDAR
