BEGIN:VCALENDAR
VERSION:2.0
PRODID:-//ChamberMaster//Event Calendar 2.0//EN
METHOD:PUBLISH
X-PUBLISHED-TTL:P3D
REFRESH-INTERVAL:P3D
CALSCALE:GREGORIAN
BEGIN:VEVENT
DTSTART:20150916T113000Z
DTEND:20150916T130000Z
X-MICROSOFT-CDO-ALLDAYEVENT:FALSE
SUMMARY:Beachwood Professional Education Series
DESCRIPTION:Beachwood Professional Education Series\n\n\n\nSpeaker:  Attorney Daniel L. Messeloff of Jackson Lewis\n\n\n\nTopic:  Social Media in the Workplace:  The 'New Normal' for Employee Relations in the 21st Century
X-ALT-DESC;FMTTYPE=text/html:Beachwood Professional Education Series<br />\n<br />\nSpeaker:&nbsp\; Attorney Daniel L. Messeloff of Jackson Lewis<br />\n<br />\nTopic:&nbsp\; Social Media in the Workplace:&nbsp\; The &#39\;New Normal&#39\; for Employee Relations in the 21st Century
LOCATION:Embassy Suites Beachwood 3775 Park East Drive Beachwood\, OH 44122
UID:e.368.3785
SEQUENCE:3
DTSTAMP:20260420T014423Z
URL:https://public.beachwood.org/events/details/beachwood-professional-education-series-09-16-2015-3785
END:VEVENT

END:VCALENDAR
