BEGIN:VCALENDAR
VERSION:2.0
PRODID:-//ChamberMaster//Event Calendar 2.0//EN
METHOD:PUBLISH
X-PUBLISHED-TTL:P3D
REFRESH-INTERVAL:P3D
CALSCALE:GREGORIAN
BEGIN:VEVENT
DTSTART:20150624T113000Z
DTEND:20150624T123000Z
X-MICROSOFT-CDO-ALLDAYEVENT:FALSE
SUMMARY:Beachwood Professional Education Series
DESCRIPTION:Registration for the event is now closed\, however walk-in's are welcome!\n\n\n\nJoin us for the Beachwood Chamber's newest networking/educational series\n\n\n\nEnjoy networking\, a speaker and light refreshments (sponsored by Embassy Suites - Beachwood)\n\n\n\nThis is the first of 3 morning series occurring in 2015\n\n\n\nSpeaker:  Jennifer Taylor of Community Energy Advisors will be uncovering the mystery that is LinkedIn.  Everyone has 500+ contacts in LinkedIn.  Learn how to effectively use LinkedIn as a marketing tool and put those contacts to use for your company.
X-ALT-DESC;FMTTYPE=text/html:<span style="color:#0000CD\;"><span style="font-size: 20px\;"><strong>Registration for the event is now closed\, however walk-in&#39\;s are welcome!</strong></span></span><br />\n<br />\nJoin us for the Beachwood Chamber&#39\;s newest networking/educational series<br />\n<br />\nEnjoy networking\, a speaker and light refreshments (sponsored by Embassy Suites - Beachwood)<br />\n<br />\nThis is the first of 3 morning series occurring in 2015<br />\n<br />\nSpeaker:&nbsp\; Jennifer Taylor of Community Energy Advisors will be uncovering the mystery that is LinkedIn.&nbsp\; Everyone has 500+ contacts in LinkedIn.&nbsp\; Learn how to effectively use LinkedIn as a marketing tool and put those contacts to use for your company.
LOCATION:Embassy Suites - Beachwood 3775 Park East Drive Beachwood\, OH 44122
UID:e.368.3737
SEQUENCE:3
DTSTAMP:20260419T213415Z
URL:https://public.beachwood.org/events/details/beachwood-professional-education-series-06-24-2015-3737
END:VEVENT

END:VCALENDAR
