BEGIN:VCALENDAR
VERSION:2.0
PRODID:-//ChamberMaster//Event Calendar 2.0//EN
METHOD:PUBLISH
X-PUBLISHED-TTL:P3D
REFRESH-INTERVAL:P3D
CALSCALE:GREGORIAN
BEGIN:VEVENT
DTSTART:20141115T180000Z
DTEND:20141115T190000Z
X-MICROSOFT-CDO-ALLDAYEVENT:FALSE
SUMMARY:Beachwood Historical Society: The Presidential Curse
DESCRIPTION:The curse also known as the Curse of Tippecanoe has effected every president that was elected in a year evenly divisible by 20 until Ronald Reagan.Join the Beachwood Historical Society as we look at Ohio's own Presidents Garfield and McKinley and their assassins Charles Guiteau and Leon Czolgosz. What role did the Oneida's "free love" community play in Guiteau life? Why did Thomas Edison re-create Leon's execution in 1901? -yes we have the original footage. Join us to find out the answers to these questions and more!
X-ALT-DESC;FMTTYPE=text/html:The curse also known as the Curse of Tippecanoe has effected every president that was elected in a year evenly divisible by 20 until Ronald Reagan.Join the Beachwood Historical Society as we look at Ohio&#39\;s own Presidents Garfield and McKinley and their assassins Charles Guiteau and Leon Czolgosz. What role did the Oneida&#39\;s &quot\;free love&quot\; community play in Guiteau life? Why did Thomas Edison re-create Leon&#39\;s execution in 1901? -yes we have the original footage. Join us to find out the answers to these questions and more!
LOCATION:Beachwood Branch of Cuyahoga County Public Library 25501 Shaker Blvd Beachwood OH 44122
UID:e.368.1149
SEQUENCE:3
DTSTAMP:20260419T230352Z
URL:https://public.beachwood.org/events/details/beachwood-historical-society-the-presidential-curse-11-15-2014-1149
END:VEVENT

END:VCALENDAR
