BEGIN:VCALENDAR
VERSION:2.0
PRODID:-//ChamberMaster//Event Calendar 2.0//EN
METHOD:PUBLISH
X-PUBLISHED-TTL:P3D
REFRESH-INTERVAL:P3D
CALSCALE:GREGORIAN
BEGIN:VEVENT
DTSTART:20140927T170000Z
DTEND:20140927T180000Z
X-MICROSOFT-CDO-ALLDAYEVENT:FALSE
SUMMARY:Beachwood Historical Society- Immigrants from the Isle of Man
DESCRIPTION:Please join the Beachwood Historical Society for a lecture on the people from in Isle of Man and how they impacted North East Ohio. For the adventurous\, the lecture will be followed by a trip to the Historic Woodland Cemetery to view the final resting place of many of these Manx People. If you have a Manx ancestor buried here\, let us know and we will try to include them on the tour.
X-ALT-DESC;FMTTYPE=text/html:&nbsp\;Please join the Beachwood Historical Society for a lecture on the people from in Isle of Man and how they impacted North East Ohio. For the adventurous\, the lecture will be followed by a trip to the Historic Woodland Cemetery to view the final resting place of many of these Manx People. If you have a Manx ancestor buried here\, let us know and we will try to include them on the tour.
LOCATION:Beachwood Branch of Cuyahoga County Public Library 25501 Shaker Blvd Beachwood OH 44122
UID:e.368.1147
SEQUENCE:3
DTSTAMP:20260420T014633Z
URL:https://public.beachwood.org/events/details/beachwood-historical-society-immigrants-from-the-isle-of-man-09-27-2014-1147
END:VEVENT

END:VCALENDAR
