BEGIN:VCALENDAR
VERSION:2.0
PRODID:-//ChamberMaster//Event Calendar 2.0//EN
METHOD:PUBLISH
X-PUBLISHED-TTL:P3D
REFRESH-INTERVAL:P3D
CALSCALE:GREGORIAN
BEGIN:VEVENT
DTSTART:20141025T170000Z
DTEND:20141025T180000Z
X-MICROSOFT-CDO-ALLDAYEVENT:FALSE
SUMMARY:Beachwood Historical Society- Beachwood Tales
DESCRIPTION:Join the Beachwood Historical Society for a trip back in time. The presentation will include tales of long forgotten murders\, scandals and changes in the look of Beachwood. Do you remember Richmond as a two lane road? A trip to the Beachwood Cemetery on the corner of S. Green and Halburton will follow the Lecture (just in time for Halloween!)
X-ALT-DESC;FMTTYPE=text/html:Join the Beachwood Historical Society for a trip back in time. The presentation will include tales of long forgotten murders\, scandals and changes in the look of Beachwood. Do you remember Richmond as a two lane road? A trip to the Beachwood Cemetery on the corner of S. Green and Halburton will follow the Lecture (just in time for Halloween!)
LOCATION:Beachwood Branch of Cuyahoga County Public Library 25501 Shaker Blvd Beachwood OH 44122
UID:e.368.1148
SEQUENCE:3
DTSTAMP:20260420T003218Z
URL:https://public.beachwood.org/events/details/beachwood-historical-society-beachwood-tales-10-25-2014-1148
END:VEVENT

END:VCALENDAR
