BEGIN:VCALENDAR
VERSION:2.0
PRODID:-//ChamberMaster//Event Calendar 2.0//EN
METHOD:PUBLISH
X-PUBLISHED-TTL:P3D
REFRESH-INTERVAL:P3D
CALSCALE:GREGORIAN
BEGIN:VEVENT
DTSTART:20231022T160000Z
DTEND:20231022T210000Z
X-MICROSOFT-CDO-ALLDAYEVENT:FALSE
SUMMARY:Beachwood Fall Festival
DESCRIPTION:To all Beachwood businesses\n\n\n\nThis is a time to showcase your business !!\n\n\n\nShowcase your company/product to over 6000 people at our annual Fall Festival. This free community event is sponsored by the City of Beachwood\, Beachwood Schools\, and the Beachwood Chamber of Commerce.\n\nPlease send an email to Shannon. Diamond@beachwoodohio.com to request an application.
X-ALT-DESC;FMTTYPE=text/html:<br />\n<strong>To all Beachwood businesses<br />\n<br />\nThis is a time to showcase your business !!<br />\n<br />\nShowcase your company/product to over 6000 people at our annual Fall Festival. This free community event is sponsored by the City of Beachwood\, Beachwood Schools\, and the Beachwood Chamber of Commerce.<br />\nPlease send an email to Shannon. Diamond@beachwoodohio.com to request an application.</strong>
LOCATION:Beachwood City Hall Parking Lot
UID:e.368.8706
SEQUENCE:3
DTSTAMP:20260424T210322Z
URL:https://public.beachwood.org/events/details/beachwood-fall-festival-8706
END:VEVENT

END:VCALENDAR
