BEGIN:VCALENDAR
VERSION:2.0
PRODID:-//ChamberMaster//Event Calendar 2.0//EN
METHOD:PUBLISH
X-PUBLISHED-TTL:P3D
REFRESH-INTERVAL:P3D
CALSCALE:GREGORIAN
BEGIN:VEVENT
DTSTART:20090117T203000Z
DTEND:20090118T030000Z
X-MICROSOFT-CDO-ALLDAYEVENT:FALSE
SUMMARY:Beachwood Community Day with the Lake Erie Monsters
DESCRIPTION:Beachwood Community Daywith theLake Erie Monsters on Saturday\, January 17that Quicken Loans Arena Come to "The Q" for a fun-filled day of family-friendly activities and hockey! 3:30 PM: Doors Open\n3:30-6:30 PM: Activities includingGiant InflatablesFace PaintingBasketball ClinicBalloon ArtistsCavaliers Dance Team ClinicHair PaintingBehind the Scenes Tours4:15 PM: Watch high school hockey -- Orange HS vs NDCL HS\n7:30 PM: Lake Erie Monsters vs Manitoba Moose! To order tickets\, click here. For a flier and order form\, click here.
X-ALT-DESC;FMTTYPE=text/html:<div align="center"><font color="#0000ff" size="3"><strong>Beachwood Community Day</strong></font></div><div align="center"><font color="#0000ff" size="3"><strong>with the</strong></font></div><div align="center"><font color="#0000ff" size="3"><strong>Lake Erie Monsters</strong></font></div><div align="center">&nbsp\;</div><div align="center"><font color="#0000ff" size="3"><strong>on Saturday\, January 17th</strong></font></div><div align="center"><font color="#0000ff" size="3"><strong>at Quicken Loans Arena</strong></font></div><div>&nbsp\;</div><div align="center"><strong><font color="#0000cc">Come to &quot\;The Q&quot\; for a fun-filled day of family-friendly activities and hockey!</font></strong></div><div>&nbsp\;</div><div><font color="#0000cc">3:30 PM: Doors Open</font></div><div><br /><font color="#0000cc">3:30-6:30 PM: Activities including</font></div><ul><li><font color="#0000cc">Giant Inflatables</font></li><li><font color="#0000cc">Face Painting</font></li><li><font color="#0000cc">Basketball Clinic</font></li><li><font color="#0000cc">Balloon Artists</font></li><li><font color="#0000cc">Cavaliers Dance Team Clinic</font></li><li><font color="#0000cc">Hair Painting</font></li><li><font color="#0000cc">Behind the Scenes Tours</font></li></ul><div><font color="#0000cc">4:15 PM: Watch high school hockey -- Orange HS vs NDCL HS</font></div><div><br /><font color="#0000cc">7:30 PM: Lake Erie Monsters vs Manitoba Moose!</font></div><div>&nbsp\;</div><div><font color="#0000cc">To order tickets\, <a href="http://www.theqarena.com/store/lem_beachwood.html">click here</a>.</font></div><div>&nbsp\;</div><div><font color="#0000cc">For a flier and order form\, <a href="https://secure.chambermaster.com/FCKeditor/UserFiles/chambers/368/File/Beachwood%20Community%20Day%20FLYER.pdf">click here</a>.</font></div><div>&nbsp\;</div><div>&nbsp\;</div>
LOCATION:Quicken Loans Arena Cleveland
UID:e.368.139
SEQUENCE:3
DTSTAMP:20260423T224039Z
URL:https://public.beachwood.org/events/details/beachwood-community-day-with-the-lake-erie-monsters-01-17-2009-139
END:VEVENT

END:VCALENDAR
