BEGIN:VCALENDAR
VERSION:2.0
PRODID:-//ChamberMaster//Event Calendar 2.0//EN
METHOD:PUBLISH
X-PUBLISHED-TTL:P3D
REFRESH-INTERVAL:P3D
CALSCALE:GREGORIAN
BEGIN:VEVENT
DTSTART:20160511T120000Z
DTEND:20160511T130000Z
X-MICROSOFT-CDO-ALLDAYEVENT:FALSE
SUMMARY:Beachwood Chamber New Member Orientation
DESCRIPTION:PRE-REGISTRATION NOW CLOSED\n\nTO REGISTER\, PLEASE EMAIL CINDY@BEACHWOOD.ORG\n\n\n\nNew Member Orientation\n\nMake your Chamber Membership Work for You!\n\n\n\nWe encourage our new Chamber members to attend the May 11\, 2016 New Member Orientation meeting.  This is your opportunity to meet the Chamber staff\, introduce your business\, and familiarize yourself with the variety of benefits we offer and get connected!\n\n\n\nThe new member orientation is an informal presentation covering all you need to know to start making your Chamber membership work for you.  Topics that will be covered include:\n\n\n	Networking Events\n	Special Events\n	Marketing Services\n	Direct Savings\n	Programs\n	Committees\n	Communications\n\nAlso in attendance at the meeting are the chairs of the committees and chamber board members. They are here to help you. They can answer any question or provide guidance.  The New Member Orientation is a great way to start you Chamber connection.
X-ALT-DESC;FMTTYPE=text/html:<strong><span style="font-family:times new roman\,serif\;"><span style="font-size:13.5pt\;"><span style="color:#FF0000\;">PRE-REGISTRATION NOW CLOSED<br />\nTO REGISTER\, PLEASE EMAIL CINDY@BEACHWOOD.ORG</span><br />\n<br />\nNew Member Orientation</span></span></strong><br />\n<span style="font-family:times new roman\,serif\;"><span style="font-size:12.0pt\;">Make your Chamber Membership Work for You!</span></span><br />\n<br />\n<span style="font-family:times new roman\,serif\;"><span style="font-size:12.0pt\;">We encourage our new Chamber members to attend the May 11\, 2016 New Member Orientation meeting.&nbsp\; This is your opportunity to meet the Chamber staff\, introduce your business\, and familiarize yourself with the variety of benefits we offer and get connected!</span></span><br />\n<br />\n<span style="font-family:times new roman\,serif\;"><span style="font-size:12.0pt\;">The new member orientation is an informal presentation covering all you need to know to start making your Chamber membership work for you.&nbsp\; Topics that will be covered include:</span></span>\n\n<ul>\n	<li style="line-height:normal\;"><span style="font-family:times new roman\,serif\;"><span style="font-size:12.0pt\;">Networking Events</span></span></li>\n	<li style="line-height:normal\;"><span style="font-family:times new roman\,serif\;"><span style="font-size:12.0pt\;">Special Events</span></span></li>\n	<li style="line-height:normal\;"><span style="font-family:times new roman\,serif\;"><span style="font-size:12.0pt\;">Marketing Services</span></span></li>\n	<li style="line-height:normal\;"><span style="font-family:times new roman\,serif\;"><span style="font-size:12.0pt\;">Direct Savings</span></span></li>\n	<li style="line-height:normal\;"><span style="font-family:times new roman\,serif\;"><span style="font-size:12.0pt\;">Programs</span></span></li>\n	<li style="line-height:normal\;"><span style="font-family:times new roman\,serif\;"><span style="font-size:12.0pt\;">Committees</span></span></li>\n	<li style="line-height:normal\;"><span style="font-family:times new roman\,serif\;"><span style="font-size:12.0pt\;">Communications</span></span></li>\n</ul>\n<span style="font-family:times new roman\,serif\;"><span style="font-size:12.0pt\;">Also in attendance at the meeting are the chairs of the committees and chamber board members.&nbsp\;They are here to help you. They can answer any question or provide guidance.&nbsp\; The New Member Orientation is a great way to start you Chamber connection.&nbsp\; </span></span><br />\n<br />\n<br />\n&nbsp\;
LOCATION:Homewood Suites Beachwood 25725 Central Pkwy Beachwood\, OH 44122
UID:e.368.4852
SEQUENCE:3
DTSTAMP:20260420T142249Z
URL:https://public.beachwood.org/events/details/beachwood-chamber-new-member-orientation-05-11-2016-4852
END:VEVENT

END:VCALENDAR
