BEGIN:VCALENDAR
VERSION:2.0
PRODID:-//ChamberMaster//Event Calendar 2.0//EN
METHOD:PUBLISH
X-PUBLISHED-TTL:P3D
REFRESH-INTERVAL:P3D
CALSCALE:GREGORIAN
BEGIN:VEVENT
DTSTART:20181018T114500Z
DTEND:20181018T131500Z
X-MICROSOFT-CDO-ALLDAYEVENT:FALSE
SUMMARY:Beachwood Chamber Member Orientation - CANCELLED
DESCRIPTION:Member Orientation -- CANCELLED!\n\n\n\nLook for a rescheduled date in early 2019
X-ALT-DESC;FMTTYPE=text/html:<strong><span style="font-family:times new roman\,serif\;"><span style="font-size:13.5pt\;"><span style="color:#0000FF\;">Member Orientation -- CANCELLED!<br />\n<br />\nLook for a rescheduled date in early 2019</span></span></span></strong><br />\n<br />\n<br />\n<br />\n&nbsp\;
LOCATION:Homewood Suites Beachwood 25725 Central Pkwy Beachwood\, OH 44122
UID:e.368.6456
SEQUENCE:3
DTSTAMP:20260420T145838Z
URL:https://public.beachwood.org/events/details/beachwood-chamber-member-orientation-cancelled-6456
END:VEVENT

END:VCALENDAR
