BEGIN:VCALENDAR
VERSION:2.0
PRODID:-//ChamberMaster//Event Calendar 2.0//EN
METHOD:PUBLISH
X-PUBLISHED-TTL:P3D
REFRESH-INTERVAL:P3D
CALSCALE:GREGORIAN
BEGIN:VEVENT
DTSTART:20231019T120000Z
DTEND:20231019T133000Z
X-MICROSOFT-CDO-ALLDAYEVENT:FALSE
SUMMARY:Beachwood Chamber Coffee Hour @ COhatch
DESCRIPTION:Coffee Hour with Guest Speakers:\n\n\n\nPlease join fellow Chamber members\, guests and local business leaders for a chance to form meaningful\n\nconnections and collaboration opportunities.\n\nHere is a chance to join in lively discussions with our speakers\, exchange valuable insights\, and foster \n\nmeaningful partnerships.\n\nOur guest speakers include:\n\n\n\n* Toby Kaye from the Thyrve Group LLC.  Company specializes in small business accounting\, fractional CFO\,\n\n   general bookkeeping and tax planning.\n\n* Chris Brown\, Sr. VP from PNC Bank.  PNC Specializes in small business banking.\n\n* Robert Perry\, Sandler Sales Institute.  Selling tips in today's fluid business environment\n\n\n\nWe look forward to seeing you at the Event !!
X-ALT-DESC;FMTTYPE=text/html:Coffee Hour with Guest Speakers:<br />\n<br />\nPlease join fellow Chamber members\, guests and local business leaders for a chance to form meaningful<br />\nconnections and collaboration opportunities.<br />\nHere is a chance to join in lively discussions with our speakers\, exchange valuable insights\, and foster&nbsp\;<br />\nmeaningful partnerships.<br />\nOur guest speakers include:<br />\n<br />\n* Toby Kaye from the <strong>Thyrve Group LLC.</strong> &nbsp\;Company specializes in small business accounting\, fractional CFO\,<br />\n&nbsp\; &nbsp\;general bookkeeping and tax planning.<br />\n* Chris Brown\, Sr. VP from <strong>PNC Bank. &nbsp\;</strong>PNC Specializes in small business banking.<br />\n* Robert Perry\, <strong>Sandler Sales Institute. &nbsp\;</strong>Selling tips in today&#39\;s fluid business environment<br />\n<br />\nWe look forward to seeing you at the Event !!
LOCATION:COhatch Beachwood Place Mall 26300 Cedar Beachwood\, OH 216-702-1477
UID:e.368.8695
SEQUENCE:3
DTSTAMP:20260424T210419Z
URL:https://public.beachwood.org/events/details/beachwood-chamber-coffee-hour-cohatch-8695
END:VEVENT

END:VCALENDAR
