BEGIN:VCALENDAR
VERSION:2.0
PRODID:-//ChamberMaster//Event Calendar 2.0//EN
METHOD:PUBLISH
X-PUBLISHED-TTL:P3D
REFRESH-INTERVAL:P3D
CALSCALE:GREGORIAN
BEGIN:VEVENT
DTSTART:20141030T140000Z
DTEND:20141115T220000Z
X-MICROSOFT-CDO-ALLDAYEVENT:FALSE
SUMMARY:Beachwood Arts Council: Process & Materiality Exhibit
DESCRIPTION:The Beachwood Arts Council is holding an exhibit\n\n\n\nPROCESS & MATERIALITY:  works by current students and recent graduates of the Cleveland Institute of Art\n\n\n\nThe Exhibit runs through November 15th and includes works by:\n\nBen Weathers\,Phong Tran\, Abigail Clark\, Claire Marks\, Jack Sherry\, Bridget McGuire\, Nikki Mehle\, Jamey Hart\, Annmarie Suglio and Lauren King.\n\nAnd is curated by Annmarie Suglio.\n\n\n\nFor more information contact Leah Gilbert at leahgilbert@sbcglobal.net
X-ALT-DESC;FMTTYPE=text/html:The Beachwood Arts Council is holding an exhibit<br />\n<br />\nPROCESS &amp\; MATERIALITY:&nbsp\; works by current students and recent graduates of the Cleveland Institute of Art<br />\n<br />\nThe Exhibit runs through November 15th and includes works by:<br />\nBen Weathers\,Phong Tran\, Abigail Clark\, Claire Marks\, Jack Sherry\, Bridget McGuire\, Nikki Mehle\, Jamey Hart\, Annmarie Suglio and Lauren King.<br />\nAnd is curated by Annmarie Suglio.<br />\n<br />\nFor more information contact Leah Gilbert at leahgilbert@sbcglobal.net<br />\n&nbsp\;
LOCATION:Beachwood Community Center 25225 Fairmount Blvd Beachwood
UID:e.368.1195
SEQUENCE:3
DTSTAMP:20260419T225840Z
URL:https://public.beachwood.org/events/details/beachwood-arts-council-process-materiality-exhibit-10-30-2014-1195
END:VEVENT

END:VCALENDAR
