BEGIN:VCALENDAR
VERSION:2.0
PRODID:-//ChamberMaster//Event Calendar 2.0//EN
METHOD:PUBLISH
X-PUBLISHED-TTL:P3D
REFRESH-INTERVAL:P3D
CALSCALE:GREGORIAN
BEGIN:VEVENT
DTSTART:20150314T130000Z
DTEND:20150314T170000Z
X-MICROSOFT-CDO-ALLDAYEVENT:FALSE
SUMMARY:Beachwood Arts Council: Painting Workshop
DESCRIPTION:As part of the Beachwood Arts Council\n\nCome Play With Me: Kathryn Holzheimer Solo Exhibit\n\n\n\nit is holding a Painting Workshop\n\non Saturday\, March 14\, 9 AM - 1 PM\n\nat the Beachwood Community Center\n\n\n\nLearn how to paint with everyday objects.\n\n$40 BAC member / $45 non-member\n\nFee includes all materials\n\nRegister at 216.595.3400
X-ALT-DESC;FMTTYPE=text/html:As part of the Beachwood Arts Council<br />\nCome Play With Me: Kathryn Holzheimer Solo Exhibit<br />\n<br />\nit is holding a Painting Workshop<br />\non Saturday\, March 14\, 9 AM - 1 PM<br />\nat the Beachwood Community Center<br />\n<br />\nLearn how to paint with everyday objects.<br />\n$40 BAC member / $45 non-member<br />\nFee includes all materials<br />\nRegister at 216.595.3400
LOCATION:Beachwood Community Center 25225 Fairmount Blvd. Beachwood
UID:e.368.1304
SEQUENCE:3
DTSTAMP:20260419T173625Z
URL:https://public.beachwood.org/events/details/beachwood-arts-council-painting-workshop-03-14-2015-1304
END:VEVENT

END:VCALENDAR
