BEGIN:VCALENDAR
VERSION:2.0
PRODID:-//ChamberMaster//Event Calendar 2.0//EN
METHOD:PUBLISH
X-PUBLISHED-TTL:P3D
REFRESH-INTERVAL:P3D
CALSCALE:GREGORIAN
BEGIN:VEVENT
DTSTART:20140409T210000Z
DTEND:20140409T230000Z
X-MICROSOFT-CDO-ALLDAYEVENT:FALSE
SUMMARY:Beachwood Arts Council: K-12 Student Art Show
DESCRIPTION:The Beachwood Arts Council\n\npresents\n\nBeachwood Schools K-12 Student Art Show\n\n\nOpening Reception\n\nWednesday\, April 9th ~ 5-7 PM\n\n\n\nThe students' art work will be on display and there will be entertainment and refreshments.\n\nThe students' art work will be on display until May 4th.\n\n\n\nThe event is free.\n\n\n\nFor more information\, please call Beachwood Arts Council President Ileen Kelner at 216.464.9064.
X-ALT-DESC;FMTTYPE=text/html:<div style="text-align: center\;">The Beachwood Arts Council<br />\npresents<br />\nBeachwood Schools K-12 Student Art Show</div>\n<br />\nOpening Reception<br />\nWednesday\, April 9th ~ 5-7 PM<br />\n<br />\nThe students&#39\; art work will be on display and there will be entertainment and refreshments.<br />\nThe students&#39\; art work will be on display until May 4th.<br />\n<br />\nThe event is free.<br />\n<br />\nFor more information\, please call Beachwood Arts Council President Ileen Kelner at 216.464.9064.<br />\n&nbsp\;
LOCATION:Beachwood Community Center 25225 Fairmount Blvd. Beachwood
UID:e.368.1107
SEQUENCE:3
DTSTAMP:20260420T090605Z
URL:https://public.beachwood.org/events/details/beachwood-arts-council-k-12-student-art-show-04-09-2014-1107
END:VEVENT

END:VCALENDAR
