BEGIN:VCALENDAR
VERSION:2.0
PRODID:-//ChamberMaster//Event Calendar 2.0//EN
METHOD:PUBLISH
X-PUBLISHED-TTL:P3D
REFRESH-INTERVAL:P3D
CALSCALE:GREGORIAN
BEGIN:VEVENT
DTSTART:20150426T190000Z
DTEND:20150426T210000Z
X-MICROSOFT-CDO-ALLDAYEVENT:FALSE
SUMMARY:Beachwood Arts Council: Just Jazz
DESCRIPTION:The Beachwood Arts Council is sponsoring a concert\n\nWith the jazz ensemble "Just Jazz". \n\n\n\nSunday\, April 26 at 3:00 PM\n\nBeachwood Community Center\n\n25225 Fairmount Blvd.\n\n\n\n Just Jazz offers a collection of best-loved songs from the American Songbook.  Tributes to the great divas of our time and Rat Pack Era classics will be performed with horns\, drums\, piano\, bass and guitar. \n\n\n\nA reception with refreshments will follow the concert. \n\nSuggested donation is $10.00 per person.\n\nFor more information\, visit www.beachwoodarts.org or call 216-595-3400
X-ALT-DESC;FMTTYPE=text/html:<span new="" style="color: black\; font-family: \;" times="">The Beachwood Arts Council is sponsoring a concert<br />\nWith the jazz ensemble <strong>&ldquo\;Just Jazz</strong>&rdquo\;.&nbsp\;<br />\n<br />\nSunday\, April 26 at 3:00 PM<br />\nBeachwood Community Center<br />\n25225 Fairmount Blvd.<br />\n<br />\n&nbsp\;Just Jazz offers a collection of best-loved songs from the American Songbook.&nbsp\; Tributes to the great divas of our time and Rat Pack Era classics will be performed with horns\, drums\, piano\, bass and guitar.&nbsp\;<br />\n<br />\nA reception with refreshments will follow the concert.&nbsp\;<br />\nSuggested donation is $10.00 per person.<br />\nFor more information\, visit <a href="http://www.beachwoodarts.org/"><font color="#0563c1">www.beachwoodarts.org</font></a> or call 216-595-3400</span>
LOCATION:Beachwood Community Center 25225 Fairmount Blvd. Beachwood\, OH 44122
UID:e.368.3718
SEQUENCE:3
DTSTAMP:20260419T160725Z
URL:https://public.beachwood.org/events/details/beachwood-arts-council-just-jazz-04-26-2015-3718
END:VEVENT

END:VCALENDAR
