BEGIN:VCALENDAR
VERSION:2.0
PRODID:-//ChamberMaster//Event Calendar 2.0//EN
METHOD:PUBLISH
X-PUBLISHED-TTL:P3D
REFRESH-INTERVAL:P3D
CALSCALE:GREGORIAN
BEGIN:VEVENT
DTSTART:20080927T210000Z
DTEND:20081020T000000Z
X-MICROSOFT-CDO-ALLDAYEVENT:FALSE
SUMMARY:Beachwood Arts Council ''Ineffable Light''
DESCRIPTION:Beachwood Arts Councilpresents"INEFFABLE LIGHT"(ineffable: beyond description\, indescribable) September 27 - October 19\, 2008at the Beachwood Community Center25225 Fairmout Boulevard Opening Reception: Saturday\, September 27\, 5-8 PM Gallery Talk with Mike Mikula: Sunday\, September 28th\, 2-3 PM Gallery Talk with Eddie Mitchell: Sunday\, October 12\, 2-3 PM GLASSWORKS by Michael Mikula:  Mikula has expored a process using carved graphite molds to form blown glass vessels and objects--all inspired by some aspect of architectural form\, detail\, and pattern. PAINTINGS by Eddie Mitchell: Mitchell's specialty is capturing the magical color as it is found in nature. Viewing Hours: Wed\, Sat\,Sun -- 1-4 PMGroups by appointment: 216-464-0270Exhibit and Talks: Free & Open to the Public Chairpersons: Phyllis Kalk & Ileen Kelner
X-ALT-DESC;FMTTYPE=text/html:<div align="center"><font color="#333399" size="2"><strong>Beachwood Arts Council</strong></font></div><div align="center"><font color="#333399"><em>presents</em></font></div><div align="center"><font color="#333399" size="3"><strong>&quot\;INEFFABLE LIGHT&quot\;</strong></font></div><div align="center"><font color="#333399" size="1">(ineffable: beyond description\, indescribable)</font></div><div>&nbsp\;</div><div align="center"><font color="#333399"><strong>September 27 - October 19\, 2008</strong></font></div><div align="center"><font color="#333399" size="2">at the</font></div><div align="center"><font color="#333399" size="2">&nbsp\;<strong><em>Beachwood Community Center</em></strong></font></div><div align="center"><font color="#333399">25225 Fairmout Boulevard</font></div><div>&nbsp\;</div><div align="left"><font color="#333399"><strong>Opening Reception:&nbsp\;</strong>Saturday\, September 27\, 5-8 PM</font></div><div align="left">&nbsp\;</div><div align="left"><font color="#333399"><strong>Gallery Talk with Mike Mikula:&nbsp\;</strong></font><font color="#333399">Sunday\, September 28th\, 2-3 PM</font></div><div align="left">&nbsp\;</div><div align="left"><font color="#333399"><strong>Gallery Talk with Eddie Mitchell:&nbsp\;</strong></font><font color="#333399">Sunday\, October 12\, 2-3 PM</font></div><div align="left">&nbsp\;</div><div align="left"><font color="#333399"><strong><em>GLASSWORKS by Michael Mikula</em></strong>:&nbsp\; Mikula has expored a process using carved graphite molds to form blown glass vessels and objects--all inspired by some aspect of architectural form\, detail\, and pattern.</font></div><div align="left">&nbsp\;</div><div align="left"><font color="#333399"><em><strong>PAINTINGS by Eddie Mitchell</strong></em>: Mitchell&rsquo\;s specialty is capturing the magical color as it is found in nature.</font></div><div align="left">&nbsp\;</div><div align="left"><font color="#333399">Viewing Hours: Wed\, Sat\,Sun -- 1-4 PM</font></div><div align="left"><font color="#333399">Groups by appointment: 216-464-0270</font></div><div align="left"><font color="#333399">Exhibit and Talks: Free &amp\; Open to the Public</font></div><div align="left">&nbsp\;</div><div align="left"><font color="#333399">Chairpersons: Phyllis Kalk &amp\; Ileen Kelner</font></div><div align="left">&nbsp\;</div><div>&nbsp\;</div>
LOCATION:Beachwood Community Center25225 Fairmount Blvd.Beachwood
UID:e.368.89
SEQUENCE:3
DTSTAMP:20260424T032234Z
URL:https://public.beachwood.org/events/details/beachwood-arts-council-ineffable-light-09-27-2008-89
END:VEVENT

END:VCALENDAR
