BEGIN:VCALENDAR
VERSION:2.0
PRODID:-//ChamberMaster//Event Calendar 2.0//EN
METHOD:PUBLISH
X-PUBLISHED-TTL:P3D
REFRESH-INTERVAL:P3D
CALSCALE:GREGORIAN
BEGIN:VEVENT
DTSTART:20150614T180000Z
DTEND:20150614T210000Z
X-MICROSOFT-CDO-ALLDAYEVENT:FALSE
SUMMARY:Beachwood Arts Council: Indian DiversityFEST
DESCRIPTION:The Beachwood Arts Council\n\npresents\n\nIndian DiversityFEST\n\nSunday\, June 14\, 2015 ~ 2-5 PM\n\nBeachwood Community Center\n\n\n\nFeaturing:  Local Asian-Indian dancers\, singers\, musicians\n\n\n\nFREE and open to the community\n\nSmall plates available for $5 (4-5 PM) from:\n\n	Choolah Indian BBQ\n	The Saffron Patch\n	Cafe Tandoor
X-ALT-DESC;FMTTYPE=text/html:The Beachwood Arts Council<br />\npresents<br />\nIndian DiversityFEST<br />\nSunday\, June 14\, 2015 ~ 2-5 PM<br />\nBeachwood Community Center<br />\n<br />\nFeaturing:&nbsp\; Local Asian-Indian dancers\, singers\, musicians<br />\n<br />\nFREE and open to the community<br />\nSmall plates available for $5 (4-5 PM) from:\n<ul>\n	<li>Choolah Indian BBQ</li>\n	<li>The Saffron Patch</li>\n	<li>Cafe Tandoor</li>\n</ul>\n
LOCATION:Beachwood Community Center
UID:e.368.3729
SEQUENCE:3
DTSTAMP:20260419T225506Z
URL:https://public.beachwood.org/events/details/beachwood-arts-council-indian-diversityfest-06-14-2015-3729
END:VEVENT

END:VCALENDAR
