BEGIN:VCALENDAR
VERSION:2.0
PRODID:-//ChamberMaster//Event Calendar 2.0//EN
METHOD:PUBLISH
X-PUBLISHED-TTL:P3D
REFRESH-INTERVAL:P3D
CALSCALE:GREGORIAN
BEGIN:VEVENT
DTSTART:20141115T150000Z
DTEND:20141115T220000Z
X-MICROSOFT-CDO-ALLDAYEVENT:FALSE
SUMMARY:Beachwood Arts Council-Holiday Arts & Crafts Show
DESCRIPTION:Beachwood Arts Council presents ...\n\n\n\nA Holiday Arts & Crafts Show\n\n\n\nSaturday\, November 15\, 2014\n\n10 AM - 5 PM\n\nat the\n\nBeachwood Community Center\n\n25225 Fairmount Blvd.\n\n\n\nAdmission is FREE / Raffle / Henna artist\n\nHandcrafted artwork including: ceramics\, jewelry\, photography\n\nBath products\, glassware\, upcycled art\, baby/children's attire
X-ALT-DESC;FMTTYPE=text/html:Beachwood Arts Council presents ...<br />\n<br />\nA Holiday Arts &amp\; Crafts Show<br />\n<br />\nSaturday\, November 15\, 2014<br />\n10 AM - 5 PM<br />\nat the<br />\nBeachwood Community Center<br />\n25225 Fairmount Blvd.<br />\n<br />\nAdmission is FREE / Raffle / Henna artist<br />\nHandcrafted artwork including: ceramics\, jewelry\, photography<br />\nBath products\, glassware\, upcycled art\, baby/children&#39\;s attire
LOCATION:Beachwood Community Center 25225 Fairmount Blvd. Beachwood
UID:e.368.1194
SEQUENCE:3
DTSTAMP:20260419T230241Z
URL:https://public.beachwood.org/events/details/beachwood-arts-council-holiday-arts-crafts-show-11-15-2014-1194
END:VEVENT

END:VCALENDAR
