BEGIN:VCALENDAR
VERSION:2.0
PRODID:-//ChamberMaster//Event Calendar 2.0//EN
METHOD:PUBLISH
X-PUBLISHED-TTL:P3D
REFRESH-INTERVAL:P3D
CALSCALE:GREGORIAN
BEGIN:VEVENT
DTSTART;VALUE=DATE:20150228
DTEND;VALUE=DATE:20150322
TRANSP:TRANSPARENT
X-MICROSOFT-CDO-ALLDAYEVENT:TRUE
SUMMARY:Beachwood Arts Council: Come Play With Me
DESCRIPTION:Beachwood Arts Council\n\npresents\n\nCome Play With Me:  Kathryn Holzheimer Solo Exhibit\n\nSaturday\, February 28 - Saturday\, March 21\, 2015\n\n\n\nOPENING RECEPTION:  Saturday\, February 28 ~ 5:00-8:00 PM\n\n\n\nGallery Hours: \n\n    Monday-Friday: 10 AM - 4 PM\n\n    Saturday:  10 AM - 3 PM\n\n    Sunday:  10 AM - 1 PM
X-ALT-DESC;FMTTYPE=text/html:Beachwood Arts Council<br />\npresents<br />\n<strong>Come Play With Me:&nbsp\; Kathryn Holzheimer Solo Exhibit</strong><br />\nSaturday\, February 28 - Saturday\, March 21\, 2015<br />\n<br />\nOPENING RECEPTION:&nbsp\; Saturday\, February 28 ~ 5:00-8:00 PM<br />\n<br />\nGallery Hours:&nbsp\;<br />\n&nbsp\;&nbsp\;&nbsp\; Monday-Friday: 10 AM - 4 PM<br />\n&nbsp\;&nbsp\;&nbsp\; Saturday:&nbsp\; 10 AM - 3 PM<br />\n&nbsp\;&nbsp\;&nbsp\; Sunday:&nbsp\; 10 AM - 1 PM
LOCATION:Beachwood Community Center 25225 Fairmount Blvd. Beachwood\, OH 44122
UID:e.368.1303
SEQUENCE:3
DTSTAMP:20260419T173728Z
URL:https://public.beachwood.org/events/details/beachwood-arts-council-come-play-with-me-02-28-2015-1303
END:VEVENT

END:VCALENDAR
