BEGIN:VCALENDAR
VERSION:2.0
PRODID:-//ChamberMaster//Event Calendar 2.0//EN
METHOD:PUBLISH
X-PUBLISHED-TTL:P3D
REFRESH-INTERVAL:P3D
CALSCALE:GREGORIAN
BEGIN:VEVENT
DTSTART:20150503T170000Z
DTEND:20150503T200000Z
X-MICROSOFT-CDO-ALLDAYEVENT:FALSE
SUMMARY:Beachwood Arts Council: Clay Pot & Rock Paining Class
DESCRIPTION:Beachwood Arts Council\n\npresents a\n\nClay Pot & Rock Painting Class\n\n\n\nSunday\, May 3\, 2015 ~ 1 - 4 PM\n\nBeachwood Community Center\n\n\n\n$20/BAC members\n\n$25/Non-members\n\n\n\nHave fun painting and decorating a clay pot and rocks for your garden.\n\nThen plant some pretty flowers in your finished pot!\n\n\n\nTo register\, call: 595-3400 and leave a message.
X-ALT-DESC;FMTTYPE=text/html:Beachwood Arts Council<br />\npresents&nbsp\;a<br />\nClay Pot &amp\; Rock Painting Class<br />\n<br />\nSunday\, May 3\, 2015 ~ 1 - 4 PM<br />\nBeachwood Community Center<br />\n<br />\n$20/BAC members<br />\n$25/Non-members<br />\n<br />\nHave fun painting and decorating a clay pot and rocks for your garden.<br />\nThen plant some pretty flowers in your finished pot!<br />\n<br />\nTo register\, call: 595-3400 and leave a message.
LOCATION:Beachwood Community Center 25225 Fairmount Blvd. Beachwood 44122
UID:e.368.3727
SEQUENCE:3
DTSTAMP:20260419T121207Z
URL:https://public.beachwood.org/events/details/beachwood-arts-council-clay-pot-rock-paining-class-05-03-2015-3727
END:VEVENT

END:VCALENDAR
