BEGIN:VCALENDAR
VERSION:2.0
PRODID:-//ChamberMaster//Event Calendar 2.0//EN
METHOD:PUBLISH
X-PUBLISHED-TTL:P3D
REFRESH-INTERVAL:P3D
CALSCALE:GREGORIAN
BEGIN:VEVENT
DTSTART:20140309T140000Z
DTEND:20140406T200000Z
X-MICROSOFT-CDO-ALLDAYEVENT:FALSE
SUMMARY:Beachwood Arts Council: artistic trifecta
DESCRIPTION:artistic trifecta\n\n\n\nMary Ubas - Curator\n\nAlice Kiderman - Sculptor\n\nDon Penn - Photographer\n\nAshley Sullivan - Painter\n\n\n\nGallery Hours:\n\nMonday-Friday: 10 AM - 4 PM\n\nSaturday: 10 AM - 3 PM\n\nSunday: 10 AM - 1 PM\n\n\n\nEvent runs through April 6\, 2014.\n\nAppointments or questions\, call Ileen at 216.464.9064
X-ALT-DESC;FMTTYPE=text/html:artistic trifecta<br />\n<br />\nMary Ubas - Curator<br />\nAlice Kiderman - Sculptor<br />\nDon Penn - Photographer<br />\nAshley Sullivan - Painter<br />\n<br />\n<strong>Gallery Hours:</strong><br />\nMonday-Friday: 10 AM - 4 PM<br />\nSaturday: 10 AM - 3 PM<br />\nSunday: 10 AM - 1 PM<br />\n<br />\nEvent runs through April 6\, 2014.<br />\nAppointments or questions\, call Ileen at 216.464.9064<br />\n&nbsp\;
LOCATION:Beachwood Community Center 25225 Fairmount Blvd. Beachwood
UID:e.368.1082
SEQUENCE:3
DTSTAMP:20260420T090538Z
URL:https://public.beachwood.org/events/details/beachwood-arts-council-artistic-trifecta-03-09-2014-1082
END:VEVENT

END:VCALENDAR
