BEGIN:VCALENDAR
VERSION:2.0
PRODID:-//ChamberMaster//Event Calendar 2.0//EN
METHOD:PUBLISH
X-PUBLISHED-TTL:P3D
REFRESH-INTERVAL:P3D
CALSCALE:GREGORIAN
BEGIN:VEVENT
DTSTART:20170606T220000Z
DTEND:20170607T003000Z
X-MICROSOFT-CDO-ALLDAYEVENT:FALSE
SUMMARY:Beachwood Arts Council Annual Meeting
DESCRIPTION:Past programs and future BAC events will be shared at this meeting.  Meet the recipient of the Si Wachsberger Arts Scholarship Award.  Entertainment and refreshments to follow.
X-ALT-DESC;FMTTYPE=text/html:Past programs and future BAC events will be shared at this meeting.&nbsp\; Meet the recipient of the Si Wachsberger Arts Scholarship Award.&nbsp\; Entertainment and refreshments to follow.
LOCATION:Beachwood Community Center 25225 Fairmount Blvd. at Richmond Rd. Beachwood 44122
UID:e.368.6302
SEQUENCE:3
DTSTAMP:20260421T082551Z
URL:https://public.beachwood.org/events/details/beachwood-arts-council-annual-meeting-6302
END:VEVENT

END:VCALENDAR
