BEGIN:VCALENDAR
VERSION:2.0
PRODID:-//ChamberMaster//Event Calendar 2.0//EN
METHOD:PUBLISH
X-PUBLISHED-TTL:P3D
REFRESH-INTERVAL:P3D
CALSCALE:GREGORIAN
BEGIN:VEVENT
DTSTART;VALUE=DATE:20080607
DTEND;VALUE=DATE:20080623
TRANSP:TRANSPARENT
X-MICROSOFT-CDO-ALLDAYEVENT:TRUE
SUMMARY:Beachwood Arts Council
DESCRIPTION:"PICTURE THIS" A photographic exhibit by...Marsha Gross\, Marvin Kelner\, Alvin Magid\, David Polk Opening Reception:  Saturday\, June 7\, 2008 -- 5:00-7:30 pm Viewing Hours:  Wednesday thru Sunday --  1:00 - 4:00 PM Beachwood Community Center25225 Fairmount Blvd. Free and open to the public
X-ALT-DESC;FMTTYPE=text/html:<div align="center"><font color="#800000" size="4"><strong>&quot\;PICTURE THIS&quot\;</strong></font></div><div>&nbsp\;</div><div align="center">A photographic exhibit by...</div><div align="center">Marsha Gross\, Marvin Kelner\, Alvin Magid\, David Polk</div><div align="center">&nbsp\;</div><div align="center">Opening Reception:&nbsp\; Saturday\, June 7\, 2008 -- 5:00-7:30 pm</div><div align="center">&nbsp\;</div><div align="center">Viewing Hours:&nbsp\; Wednesday thru Sunday --&nbsp\; 1:00 - 4:00 PM</div><div align="center">&nbsp\;</div><div align="center">Beachwood Community Center</div><div align="center">25225 Fairmount Blvd.</div><div align="center">&nbsp\;</div><div align="center"><strong>Free and open to the public</strong></div>
LOCATION:Beachwood Community Center25225 Fairmount Blvd.Beachwood
UID:e.368.41
SEQUENCE:3
DTSTAMP:20260424T071819Z
URL:https://public.beachwood.org/events/details/beachwood-arts-council-06-07-2008-41
END:VEVENT

END:VCALENDAR
