BEGIN:VCALENDAR
VERSION:2.0
PRODID:-//ChamberMaster//Event Calendar 2.0//EN
METHOD:PUBLISH
X-PUBLISHED-TTL:P3D
REFRESH-INTERVAL:P3D
CALSCALE:GREGORIAN
BEGIN:VEVENT
DTSTART:20090514T213000Z
DTEND:20090514T233000Z
X-MICROSOFT-CDO-ALLDAYEVENT:FALSE
SUMMARY:BCC: YOUNG PROFESSIONALS-MAY
DESCRIPTION:With the warmer weather\, we are holding some of our Young Professional Group activities in the open air! Join the Young Professionals on Thursday\, May 14th from 5:30-7:30 PM (note new times) at the City of Beachwood Park's Pavillion for food and games and more! RSVPs appreciated. Event is free to members and nonmembers. We look forward to seeing you on the 14th. And check out the group's August 23rd Tribe Tailgate at Progressive Field as the Indians play the Seattle Mariners.  RSVPs required to Nicole Cellura by May 15th\, payment by May 30th.
X-ALT-DESC;FMTTYPE=text/html:<div>With the warmer weather\, we are holding some of our Young Professional Group activities in the open air!</div><div>&nbsp\;</div><div>Join the Young Professionals on Thursday\, May 14th from 5:30-7:30 PM (note new times) at the City of Beachwood Park&rsquo\;s Pavillion&nbsp\;for food and games and more!</div><div>&nbsp\;</div><div>RSVPs appreciated.</div><div>&nbsp\;</div><div>Event is free to members and nonmembers.</div><div>&nbsp\;</div><div>We look forward to seeing you on the 14th.</div><div>&nbsp\;</div><div>And check out the group's August 23rd Tribe Tailgate at Progressive Field as the Indians play the Seattle Mariners.&nbsp\; RSVPs required to Nicole Cellura by May 15th\, payment by May 30th.</div>
LOCATION:Pavillion at Beachwood City Park Shaker Blvd. East (Between Green & Richmond Rds)
UID:e.368.203
SEQUENCE:3
DTSTAMP:20260423T182442Z
URL:https://public.beachwood.org/events/details/bcc-young-professionals-may-05-14-2009-203
END:VEVENT

END:VCALENDAR
