BEGIN:VCALENDAR
VERSION:2.0
PRODID:-//ChamberMaster//Event Calendar 2.0//EN
METHOD:PUBLISH
X-PUBLISHED-TTL:P3D
REFRESH-INTERVAL:P3D
CALSCALE:GREGORIAN
BEGIN:VEVENT
DTSTART:20090427T144500Z
DTEND:20090427T170000Z
X-MICROSOFT-CDO-ALLDAYEVENT:FALSE
SUMMARY:BCC: SPECIAL LUNCH & LEARN
DESCRIPTION:Beachwood Chamber website traffic reaches new heights ... Are you maximizing your presence? Do you know what functions are available to you as a member?\n\nThe Beachwood Chamber of Commerce website enables you -- a Chamber member -- a great deal of flexibility in managing your information and promoting your business.  Join us and Andy Wayt from ChamberMaster for a special session to learn more about the functionality of the site\, how to offer free promotions to other members\, and low-cost advertising programs. Also enjoy an opportunity to lunch with other members. \n\nDid you know that we can now track how many visits the Chamber's website receives?  Did you know that we can also track how many hits an industry receives as well as your website?In a year\, the Chamber website has had over 20\,000 searches\, with over 50% brand new!\nEach member has had 100 or more hits -- some businesses over 10\,000!\nWhen a visitor clicks on a business category\, those members listed within the category are rotated\, so each time a different member is #1 on the list!Have a special offer that Chamber members and/or community would be interested in:  HOT DEALS allows you to let members and community know about your offer.Have a special event\, conference\, etc. ChamberMaster allows you to include your event on the Chamber's calendar.And there's so much more!Please join us and Andy Wayt on Monday\, April 27th\, 11:45 AM-1:00 PM at the Chamber office for this Lunch and Learn.  \n\nPlease RSVP online or to mail@beachwood.org or call the Chamber at 216-831-0003. This is a free members-only event.\n\nYou may also email Andy at andrew.wayt@chambermaster.com or click here to request a consultation or to learn more information about ChamberMaster.
X-ALT-DESC;FMTTYPE=text/html:<div style="text-align: center"><strong><font size="2">Beachwood Chamber website traffic reaches new heights ... Are you maximizing your presence? Do you know what functions are available to you as a member?<br /></font></strong></div><div><span style="font-size: small"><br /><font size="1">The Beachwood Chamber of Commerce website enables you -- a Chamber member -- a great deal of flexibility in managing your information and promoting your business.&nbsp\; Join us and Andy Wayt from ChamberMaster for a special session to learn more about the functionality of the site\, how to offer free promotions to other members\, and low-cost advertising programs. Also enjoy an opportunity to lunch with other members. <br /><br /></font></span></div><ul><li><font size="1">D<span style="font-size: small">id you know that we can now track how many visits the Chamber&rsquo\;s website receives?&nbsp\; </span></font></li><li><span style="font-size: small"><font size="1">Did you know that we can also track how many hits an industry receives as well as your website?</font></span></li><li><span style="font-size: small"><font size="1">In a year\, the Chamber website has had over 20\,000 searches\, with over 50% brand new!<br /></font></span></li><li><span style="font-size: small"><font size="1">Each member has had 100 or more hits -- some businesses over 10\,000!<br /></font></span></li><li><span style="font-size: small"><font size="1">When a visitor clicks on a business category\, those members listed within the category are rotated\, so each time a different member is #1 on the list!</font></span></li><li><span style="font-size: small"><font size="1">Have a special offer that Chamber members and/or community would be interested in:&nbsp\; HOT DEALS allows you to let members and community know about your offer.</font></span></li><li><span style="font-size: small"><font size="1">Have a special event\, conference\, etc. ChamberMaster allows you to include your event on the Chamber&rsquo\;s calendar.</font></span></li><li><span style="font-size: small"><font size="1">And there&rsquo\;s so much more!</font></span></li></ul><div><span style="font-size: small"><font size="1">Please join us and Andy Wayt on Monday\, April 27th\, 11:45 AM-1:00 PM at the Chamber office for this Lunch and Learn.&nbsp\; <br /><br /><strong>Please RSVP online or to <a href="mailto:mail@beachwood.org?subject=RSVP%20-%20April%2027th%20Lunch%20%26%20Learn">mail@beachwood.org</a></strong> or call the Chamber at 216-831-0003. This is a free members-only event.<br /><br />You may also email Andy at </font></span><a href="mailto:andrew.wayt@chambermaster.com?subject=Request%20for%20Information%20%26%2For%20Appointment"><span style="font-size: small"><font size="1">andrew.wayt@chambermaster.com </font></span></a><span style="font-size: small"><font size="1">or </font></span><a href="http://chamberconsulting.chambermaster.com/?ccid=368"><span style="font-size: small"><font size="1">click here</font></span></a><span style="font-size: small"><font size="1"> to request a consultation or to learn more information about ChamberMaster.<br /><br /></font></span></div>
LOCATION:Beachwood Chamber of Commerce Three Commerce Park Square 23230 Chagrin Blvd\, #900 (216) 831-0003
UID:e.368.199
SEQUENCE:3
DTSTAMP:20260423T191652Z
URL:https://public.beachwood.org/events/details/bcc-special-lunch-learn-04-27-2009-199
END:VEVENT

END:VCALENDAR
