BEGIN:VCALENDAR
VERSION:2.0
PRODID:-//ChamberMaster//Event Calendar 2.0//EN
METHOD:PUBLISH
X-PUBLISHED-TTL:P3D
REFRESH-INTERVAL:P3D
CALSCALE:GREGORIAN
BEGIN:VEVENT
DTSTART:20090321T233000Z
DTEND:20090322T020000Z
X-MICROSOFT-CDO-ALLDAYEVENT:FALSE
SUMMARY:BCC NIGHT WITH LAKE ERIE MONSTERS
DESCRIPTION:Join the Chamber for an evening of fun\, sports\, and family activities ...What: Beachwood Chamber Night with the Lake Erie Monsters vs Rampage\nWhen: Saturday\, March 21\, 2009\nGame Time: 7:30 PM\nWhere: Quick Loans Arena\nCost:  Chamber discount ticket price -- $18March 21st is also Cancer Awareness Night at The Q.Bring your family\, arrive early (doors open at 6:30 PM!)\, and kids can enjoy FREEHair PaintingFace PaintingMonsters TattoosSign-makingFor ticket information\, contact the Chamber at 216-831-0003 or email mail@beachwood.org To purchase tickets\, either click here for the order form or click here to order online. Note: Tickets will be mailed to you by Quicken Loans Arena. Orders received after Friday\, March 13th\, will be held at "will call."
X-ALT-DESC;FMTTYPE=text/html:<p><font color="#333399">Join the Chamber for an evening of fun\, sports\, and family activities ...</font></p><p><font color="#333399">What</font>: <strong><font color="#000080">Beachwood Chamber Night with the Lake Erie Monsters vs Rampage<br /></font></strong><font color="#333399">When</font>: <strong><font color="#000080">Saturday\, March 21\, 2009<br /></font></strong><font color="#333399">Game Time</font>: <strong><font color="#000080">7:30 PM<br /></font></strong><font color="#333399">Where</font>: <strong><font color="#000080">Quick Loans Arena</font></strong><br /><font color="#333399">Cost:</font>&nbsp\; <strong><font color="#000080">Chamber discount ticket price -- $18</font></strong></p><p><font color="#333399">March 21st is also Cancer Awareness Night at The Q.</font></p><p><font color="#333399">Bring your family\, arrive early (doors open at 6:30 PM!)\, and kids can enjoy </font><font color="#000080"><strong><em>FREE</em></strong></font></p><ul><li><font color="#333399">Hair Painting</font></li><li><font color="#333399">Face Painting</font></li><li><font color="#333399">Monsters Tattoos</font></li><li><font color="#333399">Sign-making</font></li></ul><div><font color="#333399">For ticket information\, contact the Chamber at 216-831-0003 or email mail@beachwood.org</font></div><div>&nbsp\;</div><div><font color="#333399">To purchase tickets\, either <a href="https://secure.chambermaster.com/FCKeditor/UserFiles/chambers/368/File/LakeErieMonster%20Flier.pdf">click here</a> for the order form or <a href="http://www.theqarena.com/store/beachwoodcoc">click here</a> to order online.</font></div><div>&nbsp\;</div><div><font color="#333399">Note: Tickets will be mailed to you by Quicken Loans Arena. Orders received after Friday\, March 13th\, will be held at &quot\;will call.&quot\;</font></div>
LOCATION:Quicken Loans ArenaThe "Q"Dowtown
UID:e.368.161
SEQUENCE:3
DTSTAMP:20260423T202448Z
URL:https://public.beachwood.org/events/details/bcc-night-with-lake-erie-monsters-03-21-2009-161
END:VEVENT

END:VCALENDAR
