BEGIN:VCALENDAR
VERSION:2.0
PRODID:-//ChamberMaster//Event Calendar 2.0//EN
METHOD:PUBLISH
X-PUBLISHED-TTL:P3D
REFRESH-INTERVAL:P3D
CALSCALE:GREGORIAN
BEGIN:VEVENT
DTSTART;VALUE=DATE:20090520
DTEND;VALUE=DATE:20090521
TRANSP:TRANSPARENT
X-MICROSOFT-CDO-ALLDAYEVENT:TRUE
SUMMARY:BCC: NETWORKING AFTER FIVE - MAY
DESCRIPTION:Our May 20th Networking After Five will be held atBaldwin-Wallace College East\n25700 Science Park Drive\, Suite 100\nIn Beachwood\n(1st building on right as you enter Science Park Drive from Richmond Road)We'll have a fun time networking\, getting better acquainted with one another\, and just enjoying a great evening. There will be live music by Xiao Lei Salavara\, one of Northeast Ohio's most talented harpists and a variety of door prizes (bring a business card for the drawings)\, including a free one-day professional development seminar and a pair of tickets to Cedar Point.California Salads (who has catered our annual networking event at Cleveland Clinic-Beachwood) will be the caterer.RSVPs greatly appreciated so that we can give an accurate count to the caterer.Cost: FREE for members\; $10 for nonmembers.RSVP online or email: devorah@beachwood.org
X-ALT-DESC;FMTTYPE=text/html:<p>Our May 20th Networking After Five will be held at</p><p>Baldwin-Wallace College East<br />25700 Science Park Drive\, Suite 100<br />In Beachwood<br />(1st building on right as you enter Science Park Drive from Richmond Road)</p><p>We&rsquo\;ll have a fun time networking\, getting better acquainted with one another\, and just enjoying a great evening. There will be live music by Xiao Lei Salavara\, one of Northeast Ohio&rsquo\;s most talented harpists and a variety of door prizes (bring a business card&nbsp\;for the drawings)\, including a free one-day professional development seminar and a pair of tickets to Cedar Point.</p><p>California Salads (who has catered our&nbsp\;annual networking event at Cleveland Clinic-Beachwood) will be the caterer.</p><p>RSVPs greatly appreciated so that we can give an accurate count to the caterer.</p><p>Cost: FREE for members\; $10 for nonmembers.</p><p>RSVP online or email: devorah@beachwood.org</p>
LOCATION:Baldwin-Wallace College25700 Science Park DriveBeachwood
UID:e.368.209
SEQUENCE:3
DTSTAMP:20260423T182411Z
URL:https://public.beachwood.org/events/details/bcc-networking-after-five-may-05-20-2009-209
END:VEVENT

END:VCALENDAR
