BEGIN:VCALENDAR
VERSION:2.0
PRODID:-//ChamberMaster//Event Calendar 2.0//EN
METHOD:PUBLISH
X-PUBLISHED-TTL:P3D
REFRESH-INTERVAL:P3D
CALSCALE:GREGORIAN
BEGIN:VEVENT
DTSTART:20090617T210000Z
DTEND:20090617T230000Z
X-MICROSOFT-CDO-ALLDAYEVENT:FALSE
SUMMARY:BCC: NETWORKING AFTER FIVE - JUNE
DESCRIPTION:On Wednesday\, June 17th\, our Networking After Five host will beThe Grotto Wine Bar\nat Shaker SquareJoin us for informal networking\, and delicious hors d'oeuvres!  There will be a cash bar consisting of a full bar as well as fabulous wines by the glass.The Grotto is located at the northwest corner of Shaker Square.  Valet parking will be available for a charge of $5.  Parking behind the Grotto's location is reserved for tenant and valet parking.  Parking is available in other locations at Shaker Square and the Van Aken and Green Road rapids stop almost at the door.For those who have not been to The Grotto\, the decor and ambiance really set this wine bar apart. Portions of the space look like they were carved out of a Roman aqueduct. The focal point of Grotto has to be the 1000 bottle wine cellar that is encased in stone and brick and acts as the back drop for the bar and dining areas. So please join us for an enjoyable evening and a unique experience.Please RSVP for this event and\, as always\, walk ins are welcome to participate.Cost: Members--FREE\; nonmembers--$10.
X-ALT-DESC;FMTTYPE=text/html:<p>On Wednesday\, June 17th\, our Networking After Five host will be</p><p align="center"><strong>The Grotto Wine Bar<br />at Shaker Square</strong></p><p align="left">Join us for informal networking\, and delicious hors d&rsquo\;oeuvres!&nbsp\; There will be a cash bar consisting of a full bar as well as fabulous wines by the glass.</p><p align="left">The Grotto is located at the northwest corner of Shaker Square.&nbsp\; Valet parking will be available for a charge of $5.&nbsp\; Parking behind the Grotto&rsquo\;s location is reserved for tenant and valet parking.&nbsp\; Parking is available in other locations at Shaker Square and the Van Aken and Green Road rapids stop almost at the door.</p><p align="left">For those who have not been to The Grotto\, the decor and ambiance really set this wine bar apart. Portions of the space look like they were carved out of a Roman aqueduct. The focal point of Grotto has to be the 1000 bottle wine cellar that is encased in stone and brick and acts as the back drop for the bar and dining areas. So please join us for an enjoyable evening and a unique experience.</p><p align="left">Please RSVP for this event and\, as always\, walk ins are welcome to participate.</p><p align="left">Cost: Members--FREE\; nonmembers--$10.</p><p align="left">&nbsp\;</p>
LOCATION:Grotto Wine Bar 13101 Shaker Square Cleveland\, OH 44120
UID:e.368.217
SEQUENCE:3
DTSTAMP:20260423T181823Z
URL:https://public.beachwood.org/events/details/bcc-networking-after-five-june-06-17-2009-217
END:VEVENT

END:VCALENDAR
