BEGIN:VCALENDAR
VERSION:2.0
PRODID:-//ChamberMaster//Event Calendar 2.0//EN
METHOD:PUBLISH
X-PUBLISHED-TTL:P3D
REFRESH-INTERVAL:P3D
CALSCALE:GREGORIAN
BEGIN:VEVENT
DTSTART:20090715T210000Z
DTEND:20090715T230000Z
X-MICROSOFT-CDO-ALLDAYEVENT:FALSE
SUMMARY:BCC: NETWORKING AFTER FIVE - JULY
DESCRIPTION:Join us on Wednesday\, July 15th\, 5-7 PM\, for Networking After Five at McCormick & Schmick's at Beachwood Place mall. If you missed our last event at McCormick & Schmick's\, you will not want to miss this one! Come and experience great food and even better networking.  With today's economy\, IT'S TIME to network and to reconnect with other members\, while enjoying the restaurant's excellent hospitality.  Hors d'oeuvres provided. Cash bar.  RSVPs greatly appreciated. Walk-ins welcome. Cost: Members--FREE           Nonmembers--$10
X-ALT-DESC;FMTTYPE=text/html:<div>Join us on Wednesday\, July 15th\,&nbsp\;5-7 PM\,&nbsp\;for Networking After Five at McCormick &amp\; Schmick&rsquo\;s at Beachwood Place mall.</div><div>&nbsp\;</div><div>If you&nbsp\;missed our last event at McCormick &amp\; Schmick's\, you will not want to miss this one! Come and experience great food and even better networking.&nbsp\; With today's economy\, IT'S&nbsp\;TIME to network and to reconnect with other members\, while enjoying the restaurant's excellent hospitality.&nbsp\; Hors d'oeuvres provided. Cash bar.</div><div>&nbsp\;</div><div>&nbsp\;</div><div>RSVPs greatly appreciated. Walk-ins welcome.</div><div>&nbsp\;</div><div>Cost: Members--FREE</div><div>&nbsp\;&nbsp\;&nbsp\;&nbsp\;&nbsp\;&nbsp\;&nbsp\;&nbsp\;&nbsp\;&nbsp\;&nbsp\;Nonmembers--$10</div>
LOCATION:McCormick & Schmick'sBeachwood Place Mallby Cedar Road mall entrance
UID:e.368.226
SEQUENCE:3
DTSTAMP:20260423T160202Z
URL:https://public.beachwood.org/events/details/bcc-networking-after-five-july-07-15-2009-226
END:VEVENT

END:VCALENDAR
