BEGIN:VCALENDAR
VERSION:2.0
PRODID:-//ChamberMaster//Event Calendar 2.0//EN
METHOD:PUBLISH
X-PUBLISHED-TTL:P3D
REFRESH-INTERVAL:P3D
CALSCALE:GREGORIAN
BEGIN:VEVENT
DTSTART:20090422T210000Z
DTEND:20090422T230000Z
X-MICROSOFT-CDO-ALLDAYEVENT:FALSE
SUMMARY:BCC: NETWORKING AFTER FIVE - APRIL
DESCRIPTION:We have had two very successful Networking After Five events at Costco.Join us on Wednesday\, April 22nd\, 5-7 PM\, for another great networking event.  And this time it's spring and not the coldest of winter days.  This is our 3rd Networking After Five at Costco.  Even with the "frigid" weather of our last two events\, we always receive an exceptionally warm reception as we have had 80+ attendees!There's always a large spread with something for everyone to eat and enjoy.  And drawings for a variety of items.Please RSVP for this event.  Walk-ins are always welcome.Cost: FREE for members\, $10 for nonmembers.See you on the 22nd!
X-ALT-DESC;FMTTYPE=text/html:<p>We have had two very successful Networking After Five events at Costco.</p><p>Join us on Wednesday\, April 22nd\, 5-7 PM\, for another great networking event.&nbsp\; And this time it&rsquo\;s spring and not the coldest of winter days.&nbsp\;&nbsp\;This is our 3rd Networking After Five at Costco.&nbsp\; Even with the &quot\;frigid&quot\; weather of our last two events\, we always receive an exceptionally warm reception as we have had 80+ attendees!</p><p>There&rsquo\;s always a large spread with something for everyone to eat and enjoy.&nbsp\; And drawings for a variety of items.</p><p>Please RSVP for this event.&nbsp\; Walk-ins are always welcome.</p><p>Cost: FREE for members\, $10 for nonmembers.</p><p>See you on the 22nd!</p>
LOCATION:Costco1409 Golden Gate BlvdMayfield Hts
UID:e.368.177
SEQUENCE:3
DTSTAMP:20260423T192431Z
URL:https://public.beachwood.org/events/details/bcc-networking-after-five-april-04-22-2009-177
END:VEVENT

END:VCALENDAR
