BEGIN:VCALENDAR
VERSION:2.0
PRODID:-//ChamberMaster//Event Calendar 2.0//EN
METHOD:PUBLISH
X-PUBLISHED-TTL:P3D
REFRESH-INTERVAL:P3D
CALSCALE:GREGORIAN
BEGIN:VEVENT
DTSTART:20090624T153000Z
DTEND:20090624T171500Z
X-MICROSOFT-CDO-ALLDAYEVENT:FALSE
SUMMARY:BCC: MONTHLY LUNCHEON - JUNE
DESCRIPTION:Our June luncheon features Jeff Tanchak\, WOIO-Channel 19's chief meteorologist.On Wednesday\, June 24th\, 11:30 AM - 1:15 PM\, Jeff will speak at the Hilton Garden Inn-Cleveland East in Mayfield Heights.  Although his passion is lake-effect snow\, his mission is to turn the challenge of northeast Ohio's ever-changing weather into a forecast we can handle.  With his arrival in town in January 2003\, Cleveland's weather instantly got more unpredictible!Before joining the 19 Action News Storm Team\, Jeff spent seven years as meteorologist for WOTV-TV in Grand Rapids\, Mich.  A native of Buffalo\, N.Y.\, Jeff is no stranger to the lake-effect snows that frequently blow in off of Lake Erie. After obtaining his degree in meteorology from the State University of New York at Brockport\, Jeff got his first on-air job in TV at R-NEWS in Rochester\, N.Y. From there\, he made the move to the Midwest\, working for WSAW-TV in Wausau\, Wisc.An avid golfer\, Jeff spends much of his free time tearing up the links. He's also a big fan of the Cleveland Indians\, and spends many evenings at Jacobs Field.Jeff loves the challenge of Cleveland's weather\, tracking the surprise storms and lake-effect snowfalls headed our way. And\, as the meteorologist for 19 Action News at FOUR\, 19 Action News at SIX and 19 Action News at ELEVEN\, Jeff said his favorite thing is providing you with Cleveland's most accurate and fun forecast.RSVP online by Friday\, June 19th.  Your confirmation is also your credit card receipt.  Cost: $25--members\; $30--nonmembersAnd those who arrive between 11:30 and 11:40 AM for additional networking are entered into a drawing for a free lunch at the next monthly luncheon.
X-ALT-DESC;FMTTYPE=text/html:<p>Our June luncheon features Jeff Tanchak\, WOIO-Channel 19&rsquo\;s chief meteorologist.</p><p>On Wednesday\, June 24th\, 11:30 AM - 1:15 PM\, Jeff will speak at the Hilton Garden Inn-Cleveland East in Mayfield Heights.&nbsp\; Although his passion is lake-effect snow\, his mission is to turn the challenge of northeast Ohio&rsquo\;s ever-changing weather into a forecast we can handle.&nbsp\; With his arrival in town in January 2003\, Cleveland&rsquo\;s weather instantly got more unpredictible!</p><p><font color="#000000">Before joining the 19 Action News Storm Team\, Jeff spent seven years as meteorologist for WOTV-TV in Grand Rapids\, Mich.&nbsp\;&nbsp\;</font><font color="#000000">A native of Buffalo\, N.Y.\, Jeff is no stranger to the lake-effect snows that frequently blow in off of Lake Erie. After obtaining his degree in meteorology from the State University of New York at Brockport\, Jeff got his first on-air job in TV at R-NEWS in Rochester\, N.Y. From there\, he made the move to the Midwest\, working for WSAW-TV in Wausau\, Wisc.</font></p><p><font color="#000000">An avid golfer\, Jeff spends much of his free time tearing up the links. He&rsquo\;s also a big fan of the Cleveland Indians\, and spends many evenings at Jacobs Field.</font></p><p><font color="#000000">Jeff loves the challenge of Cleveland&rsquo\;s weather\,&nbsp\;tracking the surprise storms and lake-effect snowfalls headed our way. And\, as the meteorologist for 19 Action News at FOUR\, 19 Action News at SIX and 19 Action News at&nbsp\;ELEVEN\, Jeff said his favorite thing is providing you with Cleveland&rsquo\;s most accurate and fun forecast.</font></p><p><font color="#000000">RSVP online by Friday\, June 19th.&nbsp\;&nbsp\;Your confirmation is also your credit card receipt.&nbsp\; </font></p><p><font color="#000000">Cost: $25--members\; $30--nonmembers</font></p><p><font color="#000000"><strong><em>And those who arrive between 11:30 and 11:40 AM for additional networking are entered into a drawing for a free lunch at the next monthly luncheon.</em></strong></font></p>
LOCATION:Hilton Garden Inn-Cleveland East700 Beta DriveMayfield Heights
UID:e.368.218
SEQUENCE:3
DTSTAMP:20260423T170559Z
URL:https://public.beachwood.org/events/details/bcc-monthly-luncheon-june-06-24-2009-218
END:VEVENT

END:VCALENDAR
