BEGIN:VCALENDAR
VERSION:2.0
PRODID:-//ChamberMaster//Event Calendar 2.0//EN
METHOD:PUBLISH
X-PUBLISHED-TTL:P3D
REFRESH-INTERVAL:P3D
CALSCALE:GREGORIAN
BEGIN:VEVENT
DTSTART:20090730T033000Z
DTEND:20090729T171500Z
X-MICROSOFT-CDO-ALLDAYEVENT:FALSE
SUMMARY:BCC: MONTHLY LUNCHEON - JULY
DESCRIPTION:Please join the Chamber and our sponsor -- Allied Door Systems -- to hear Mark Sniderman\, Executive Vice President & Chief Policy Officer of the Federal Reserve Bank of Cleveland. Sniderman oversees the Research\, Public Affairs\, Community Affairs\, and Policy Analysis Departments. He joined the Federal Reserve Bank's Research Department in 1976 and was assigned to his current position in 1994. Cost: Members--$25\; Nonmembers--$30 RSVP by Friday\, July 24th.  Your confirmation for your online reservation and payment is also your credit card receipt. Please advise the Chamber of any special dietary requirements no later than Friday\, July 24th. Please note in "COMMENTS" when registering. Remember:  Arrive by 11:40 AM\, give us your business card\, and be entered to win a FREE LUNCH!
X-ALT-DESC;FMTTYPE=text/html:<div>Please join the Chamber and our sponsor -- Allied Door Systems -- to hear Mark Sniderman\, Executive Vice President &amp\; Chief Policy Officer of the Federal Reserve Bank of Cleveland.</div><div>&nbsp\;</div><div>Sniderman oversees the Research\, Public Affairs\, Community Affairs\, and Policy Analysis Departments. He joined the Federal Reserve Bank's Research Department in 1976 and was assigned to his current position in 1994.</div><div>&nbsp\;</div><div>Cost: Members--$25\; Nonmembers--$30</div><div>&nbsp\;</div><div>RSVP by Friday\, July 24th.&nbsp\; Your confirmation for your online reservation and payment is also your credit card receipt.</div><div>&nbsp\;</div><div>Please advise the Chamber of any special dietary requirements no later than Friday\, July 24th.&nbsp\;Please note in &quot\;COMMENTS&quot\; when registering.</div><div>&nbsp\;</div><div>Remember:&nbsp\; Arrive by 11:40 AM\, give us your business card\, and be entered to win a FREE LUNCH!</div><div>&nbsp\;</div><div>&nbsp\;</div>
LOCATION:Hilton Cleveland East/Beachwood3663 Park East DriveBEACHWOOD
UID:e.368.230
SEQUENCE:3
DTSTAMP:20260423T172259Z
URL:https://public.beachwood.org/events/details/bcc-monthly-luncheon-july-07-29-2009-230
END:VEVENT

END:VCALENDAR
