BEGIN:VCALENDAR
VERSION:2.0
PRODID:-//ChamberMaster//Event Calendar 2.0//EN
METHOD:PUBLISH
X-PUBLISHED-TTL:P3D
REFRESH-INTERVAL:P3D
CALSCALE:GREGORIAN
BEGIN:VEVENT
DTSTART:20090716T193000Z
DTEND:20090716T213000Z
X-MICROSOFT-CDO-ALLDAYEVENT:FALSE
SUMMARY:BCC: Israel's Entrepreneurial & Economic Outlook
DESCRIPTION:You are cordially invited to a discussion on Israel's Entrepreneurial and Economic Outlook followed by an evening reception featuring Uriel Lynn President fo the Federation of Israeli Chambers of Commerce\, Member of the Board of Euro Chambers\, and former Knesset Member. Welcoming remarks bySpeaker of the House - Armond Budish Date:     Thursday\, July 16th Time:     3:30 PM - Welcome and Discussion                5:00 PM - Reception Location: Cleveland State University\, Maxine Goodman Levin College of Urban Affairs                  1717 Euclid Avenue\, Cleveland\, OH 44115 Please RSVP to Maggie Gerber at 216-831-0003 or email her at maggie@beachwood.org This program is presented by the Beachwood Chamber of Commerce in partnership with Cleveland State University and the Greater Cleveland Partnership.
X-ALT-DESC;FMTTYPE=text/html:<div style="text-align: center">You are cordially invited to a discussion on</div><div style="text-align: center">&nbsp\;</div><div style="text-align: center"><strong><span style="font-size: x-small">Israel's Entrepreneurial and Economic Outlook</span></strong></div><div style="text-align: center">&nbsp\;</div><div style="text-align: center">followed by an evening reception featuring</div><div>&nbsp\;</div><div style="text-align: center"><strong><span style="font-size: x-small">Uriel Lynn </span></strong></div><div style="text-align: center"><span style="font-size: xx-small">President fo the Federation of Israeli Chambers of Commerce\, Member of the Board of Euro Chambers\, and former Knesset Member.</span></div><div>&nbsp\;</div><div style="text-align: center">Welcoming remarks by</div><div style="text-align: center"><strong>Speaker of the House - Armond Budish</strong></div><div>&nbsp\;</div><div>Date: &nbsp\;&nbsp\;&nbsp\;&nbsp\;Thursday\, July 16th</div><div>&nbsp\;</div><div>Time: &nbsp\;&nbsp\;&nbsp\;&nbsp\;3:30 PM - Welcome and Discussion</div><div>&nbsp\;&nbsp\;&nbsp\;&nbsp\;&nbsp\;&nbsp\;&nbsp\;&nbsp\;&nbsp\;&nbsp\;&nbsp\;&nbsp\;&nbsp\;&nbsp\;&nbsp\;&nbsp\;5:00 PM - Reception</div><div>&nbsp\;</div><div>Location: Cleveland State University\, Maxine Goodman Levin College of Urban Affairs</div><div>&nbsp\;&nbsp\;&nbsp\;&nbsp\;&nbsp\;&nbsp\;&nbsp\;&nbsp\;&nbsp\;&nbsp\;&nbsp\;&nbsp\;&nbsp\;&nbsp\;&nbsp\;&nbsp\;&nbsp\; 1717 Euclid Avenue\, Cleveland\, OH 44115</div><div>&nbsp\;</div><div>Please RSVP to Maggie Gerber at 216-831-0003 or email her at <a href="mailto:maggie@beachwood.org">maggie@beachwood.org</a></div><div>&nbsp\;</div><div><em>This program is presented by the Beachwood Chamber of Commerce in partnership with Cleveland State University and the Greater Cleveland Partnership.</em></div><div>&nbsp\;</div>
LOCATION:Cleveland State UniversityMaxine Goodman Levin College of Urban Affairs1717 Euclid AvenueCleveland\, OH
UID:e.368.234
SEQUENCE:3
DTSTAMP:20260423T171010Z
URL:https://public.beachwood.org/events/details/bcc-israel-s-entrepreneurial-economic-outlook-07-16-2009-234
END:VEVENT

END:VCALENDAR
